BEGIN:VCALENDAR
VERSION:2.0
PRODID:-//Portuguese Cultural Centre of Mississauga - ECPv6.15.20//NONSGML v1.0//EN
CALSCALE:GREGORIAN
METHOD:PUBLISH
X-WR-CALNAME:Portuguese Cultural Centre of Mississauga
X-ORIGINAL-URL:https://pccmississauga.ca
X-WR-CALDESC:Events for Portuguese Cultural Centre of Mississauga
REFRESH-INTERVAL;VALUE=DURATION:PT1H
X-Robots-Tag:noindex
X-PUBLISHED-TTL:PT1H
BEGIN:VTIMEZONE
TZID:America/Toronto
BEGIN:DAYLIGHT
TZOFFSETFROM:-0500
TZOFFSETTO:-0400
TZNAME:EDT
DTSTART:20250309T070000
END:DAYLIGHT
BEGIN:STANDARD
TZOFFSETFROM:-0400
TZOFFSETTO:-0500
TZNAME:EST
DTSTART:20251102T060000
END:STANDARD
BEGIN:DAYLIGHT
TZOFFSETFROM:-0500
TZOFFSETTO:-0400
TZNAME:EDT
DTSTART:20260308T070000
END:DAYLIGHT
BEGIN:STANDARD
TZOFFSETFROM:-0400
TZOFFSETTO:-0500
TZNAME:EST
DTSTART:20261101T060000
END:STANDARD
BEGIN:DAYLIGHT
TZOFFSETFROM:-0500
TZOFFSETTO:-0400
TZNAME:EDT
DTSTART:20270314T070000
END:DAYLIGHT
BEGIN:STANDARD
TZOFFSETFROM:-0400
TZOFFSETTO:-0500
TZNAME:EST
DTSTART:20271107T060000
END:STANDARD
END:VTIMEZONE
BEGIN:VEVENT
DTSTART;TZID=America/Toronto:20260307T140000
DTEND;TZID=America/Toronto:20260307T220000
DTSTAMP:20260423T160428
CREATED:20260125T170619Z
LAST-MODIFIED:20260125T170619Z
UID:3239-1772892000-1772920800@pccmississauga.ca
SUMMARY:Multicultural Youth Festival
DESCRIPTION: PCCM Folklore’s 1st Annual Multicultural Youth Festival \n\nJoin us for an exciting afternoon celebrating culture\, youth\, and community at PCCM Folklore’s very first Multicultural Youth Festival!\nThis family-friendly event brings together young performers and cultural representation from around the world in a joyful\, welcoming atmosphere.\n\n Saturday\, March 7\, 2026 Doors Open at 2:00 PM\n\n What to expect:• Multicultural youth performances• A vibrant celebration of global cultures• Food & drinks available for purchase• Door prizes• Fun for all ages\n\n FREE ENTRY\nBring your family\, friends\, and community to support youth\, diversity\, and cultural pride. We can’t wait to welcome you!\n 
URL:https://pccmississauga.ca/event/multicultural-youth-festival/
LOCATION:PCCM Main Hall\, 53 Queen Street North\, Mississauga\, Ontario\, L5N 1A2\, Canada
ORGANIZER;CN="Portuguese Cultural Centre of Mississauga":MAILTO:secretary@pccmississauga.ca
END:VEVENT
BEGIN:VEVENT
DTSTART;TZID=America/Toronto:20260314T170000
DTEND;TZID=America/Toronto:20260314T233000
DTSTAMP:20260423T160428
CREATED:20260123T190601Z
LAST-MODIFIED:20260123T190708Z
UID:3228-1773507600-1773531000@pccmississauga.ca
SUMMARY:My Big Fat Portuguese Wedding
DESCRIPTION:TICKETS MUST BE PURCHASED ON EVENT BRITE SITE. The PCCM does not have tickets for sale. \nLink to purchase tickets here. \n \nManny & Teresa are finally getting married! Join us for an unforgettable night of laughs where YOU are part of the family!\n\n\n\nThe Funniest Wedding You’ll Ever Be a Part Of! 💍🎭🍷 \nJoin us in Mississauga\, ON for My Big Fat Portuguese Wedding\, an interactive dinner comedy where YOU are part of the família—whether you like it or not! Expect outrageous antics\, hilarious family drama\, and a feast fit for a king and queen! \nGet ready to eat\, laugh\, dance\, and maybe even meet a long-lost cousin—because at this wedding\, anything can happen! \nTickets start $90 and include dinner\, comedy show and dancing! \nBar will be selling drinks throughout the night \nTables hold 10 \n\nDoors open at 5:00pm\nBeginning portion of the show starts at 6:15pm\nDinner starts at 7:00pm\nSecond portion of the show starts after dinner\nPlease note these times are approximate and may change
URL:https://pccmississauga.ca/event/my-big-fat-portuguese-wedding-2/
LOCATION:PCCM Main Hall\, 53 Queen Street North\, Mississauga\, Ontario\, L5N 1A2\, Canada
END:VEVENT
BEGIN:VEVENT
DTSTART;TZID=America/Toronto:20260315T160000
DTEND;TZID=America/Toronto:20260315T230000
DTSTAMP:20260423T160428
CREATED:20260123T190317Z
LAST-MODIFIED:20260123T190806Z
UID:3224-1773590400-1773615600@pccmississauga.ca
SUMMARY:My Big Fat Portuguese Wedding
DESCRIPTION:TICKETS MUST BE PURCHASED ON EVENT BRITE SITE. The PCCM does not have tickets for sale. \nLink to purchase tickets here. \n \nManny & Teresa are finally getting married! Join us for an unforgettable night of laughs where YOU are part of the family!\n\n\n\nThe Funniest Wedding You’ll Ever Be a Part Of! 💍🎭🍷 \nJoin us in Mississauga\, ON for My Big Fat Portuguese Wedding\, an interactive dinner comedy where YOU are part of the família—whether you like it or not! Expect outrageous antics\, hilarious family drama\, and a feast fit for a king and queen! \nGet ready to eat\, laugh\, dance\, and maybe even meet a long-lost cousin—because at this wedding\, anything can happen! \nTickets start $90 and include dinner\, comedy show and dancing! \nBar will be selling drinks throughout the night \nTables hold 10 \n\nDoors open at 4:00pm\nBeginning portion of the show starts at 5:15pm\nDinner starts at 6:00pm\nSecond portion of the show starts after dinner\nPlease note these times are approximate and may change\n\n\n\n\n 
URL:https://pccmississauga.ca/event/my-big-fat-portuguese-wedding/
LOCATION:PCCM Main Hall\, 53 Queen Street North\, Mississauga\, Ontario\, L5N 1A2\, Canada
END:VEVENT
BEGIN:VEVENT
DTSTART;TZID=America/Toronto:20260321T183000
DTEND;TZID=America/Toronto:20260321T233000
DTSTAMP:20260423T160428
CREATED:20260110T220852Z
LAST-MODIFIED:20260110T220852Z
UID:3207-1774117800-1774135800@pccmississauga.ca
SUMMARY:The Original Seafood Night
DESCRIPTION:
URL:https://pccmississauga.ca/event/the-original-seafood-night/
LOCATION:PCCM Main Hall\, 53 Queen Street North\, Mississauga\, Ontario\, L5N 1A2\, Canada
ORGANIZER;CN="Portuguese Cultural Centre of Mississauga":MAILTO:secretary@pccmississauga.ca
END:VEVENT
BEGIN:VEVENT
DTSTART;TZID=America/Toronto:20260328T183000
DTEND;TZID=America/Toronto:20260328T233000
DTSTAMP:20260423T160428
CREATED:20260310T232515Z
LAST-MODIFIED:20260310T232515Z
UID:3243-1774722600-1774740600@pccmississauga.ca
SUMMARY:Festival do Leitão & Hawaii Night
DESCRIPTION:🌺🐖 Festival do Leitão & Hawaii Night 🐖🌺 \nJoin us at the Portuguese Cultural Centre of Mississauga for a fun and delicious evening as we bring together the flavours of Portugal with a tropical Hawaiian twist. Enjoy our famous leitão (roast pig) in a festive atmosphere filled with great food\, great company\, and plenty of island-inspired fun. \nThe night will feature live entertainment by Duo Som Luso\, Steve Medeiros\, and Henrik Cipriano\, keeping the music going and the dance floor lively throughout the evening. Put on your Hawaiian shirts\, leis\, and tropical outfits and come ready for a memorable night of food\, music\, and dancing. \nFor reservations and information\, please contact us at 905-286-1311 or secretary@pccmississauga.ca. Reserve early and come celebrate this unique Festival do Leitão & Hawaii Night with us! 🌴 \n\n\n\n\n\n\n 
URL:https://pccmississauga.ca/event/festival-do-leitao-hawaii-night/
LOCATION:PCCM Main Hall\, 53 Queen Street North\, Mississauga\, Ontario\, L5N 1A2\, Canada
ORGANIZER;CN="Portuguese Cultural Centre of Mississauga":MAILTO:secretary@pccmississauga.ca
END:VEVENT
END:VCALENDAR