BEGIN:VCALENDAR
VERSION:2.0
PRODID:-//Portuguese Cultural Centre of Mississauga - ECPv6.15.20//NONSGML v1.0//EN
CALSCALE:GREGORIAN
METHOD:PUBLISH
X-ORIGINAL-URL:https://pccmississauga.ca
X-WR-CALDESC:Events for Portuguese Cultural Centre of Mississauga
REFRESH-INTERVAL;VALUE=DURATION:PT1H
X-Robots-Tag:noindex
X-PUBLISHED-TTL:PT1H
BEGIN:VTIMEZONE
TZID:America/Toronto
BEGIN:DAYLIGHT
TZOFFSETFROM:-0500
TZOFFSETTO:-0400
TZNAME:EDT
DTSTART:20240310T070000
END:DAYLIGHT
BEGIN:STANDARD
TZOFFSETFROM:-0400
TZOFFSETTO:-0500
TZNAME:EST
DTSTART:20241103T060000
END:STANDARD
BEGIN:DAYLIGHT
TZOFFSETFROM:-0500
TZOFFSETTO:-0400
TZNAME:EDT
DTSTART:20250309T070000
END:DAYLIGHT
BEGIN:STANDARD
TZOFFSETFROM:-0400
TZOFFSETTO:-0500
TZNAME:EST
DTSTART:20251102T060000
END:STANDARD
BEGIN:DAYLIGHT
TZOFFSETFROM:-0500
TZOFFSETTO:-0400
TZNAME:EDT
DTSTART:20260308T070000
END:DAYLIGHT
BEGIN:STANDARD
TZOFFSETFROM:-0400
TZOFFSETTO:-0500
TZNAME:EST
DTSTART:20261101T060000
END:STANDARD
END:VTIMEZONE
BEGIN:VEVENT
DTSTART;TZID=America/Toronto:20250405T183000
DTEND;TZID=America/Toronto:20250405T233000
DTSTAMP:20260424T114304
CREATED:20250220T164147Z
LAST-MODIFIED:20250220T164147Z
UID:2984-1743877800-1743895800@pccmississauga.ca
SUMMARY:🎭✨ Masquerade Ball with Mexe-Mexe – A Night of Mystery & Music! 🎶🎭
DESCRIPTION:Step into a night of elegance\, mystery\, and excitement at the PCCM Youth Group’s Masquerade Ball! Put on your finest attire\, don your most dazzling mask\, and get ready to dance the night away with the incredible Mexe-Mexe! \n✨ What to Expect:🎶 Live Music by Mexe-Mexe – Get ready for a night of non-stop dancing!🎭 Masquerade Theme – Dress to impress and embrace the mystery!🍹 Delicious Foods & Great Atmosphere🎊 A Night of Fun\, Friends & Festivity! \nDon’t miss this one-of-a-kind event—where music\, glamour\, and mystery come together for an unforgettable evening! \n📢 For tickets & more info\, contact 905.286.1311
URL:https://pccmississauga.ca/event/%f0%9f%8e%ad%e2%9c%a8-masquerade-ball-with-mexe-mexe-a-night-of-mystery-music-%f0%9f%8e%b6%f0%9f%8e%ad/
LOCATION:PCCM Main Hall\, 53 Queen Street North\, Mississauga\, Ontario\, L5N 1A2\, Canada
ORGANIZER;CN="Portuguese Cultural Centre of Mississauga":MAILTO:secretary@pccmississauga.ca
END:VEVENT
BEGIN:VEVENT
DTSTART;TZID=America/Toronto:20250412T180000
DTEND;TZID=America/Toronto:20250412T233000
DTSTAMP:20260424T114304
CREATED:20250220T161720Z
LAST-MODIFIED:20250407T184022Z
UID:2973-1744480800-1744500600@pccmississauga.ca
SUMMARY:RENTAL - Roots of Lourinha
DESCRIPTION:
URL:https://pccmississauga.ca/event/rental-4/
LOCATION:PCCM Main Hall\, 53 Queen Street North\, Mississauga\, Ontario\, L5N 1A2\, Canada
END:VEVENT
BEGIN:VEVENT
DTSTART;TZID=America/Toronto:20250418T170000
DTEND;TZID=America/Toronto:20250418T210000
DTSTAMP:20260424T114304
CREATED:20250220T164619Z
LAST-MODIFIED:20250306T013223Z
UID:2987-1744995600-1745010000@pccmississauga.ca
SUMMARY:🌿✨ Sexta-Feira Santa ✨🌿
DESCRIPTION:Join us at PCCM for a special gathering on Sexta-Feira Santa (Good Friday). This evening is a time for reflection\, tradition\, and community as we come together to share a meal and meaningful moments. \n🍽️ What to Expect:🌿 Delicious Meal🤝 Community & Togetherness – A warm and welcoming atmosphere.✨ A Time to Reflect and Appreciate the Moment \nCome enjoy an evening of tradition and connection with family and friends. Everyone is welcome! \n📢 For more info\, contact 905.286.1311
URL:https://pccmississauga.ca/event/%f0%9f%8c%bf%e2%9c%a8-sexta-feira-santa-%e2%9c%a8%f0%9f%8c%bf/
LOCATION:PCCM Main Hall\, 53 Queen Street North\, Mississauga\, Ontario\, L5N 1A2\, Canada
ORGANIZER;CN="Portuguese Cultural Centre of Mississauga":MAILTO:secretary@pccmississauga.ca
END:VEVENT
BEGIN:VEVENT
DTSTART;TZID=America/Toronto:20250419T120000
DTEND;TZID=America/Toronto:20250419T170000
DTSTAMP:20260424T114304
CREATED:20250220T161759Z
LAST-MODIFIED:20250224T173230Z
UID:2975-1745064000-1745082000@pccmississauga.ca
SUMMARY:RENTAL - Bife da Casa
DESCRIPTION:
URL:https://pccmississauga.ca/event/rental-bife-da-casa/
LOCATION:PCCM Main Hall\, 53 Queen Street North\, Mississauga\, Ontario\, L5N 1A2\, Canada
END:VEVENT
BEGIN:VEVENT
DTSTART;TZID=America/Toronto:20250420T120000
DTEND;TZID=America/Toronto:20250420T210000
DTSTAMP:20260424T114304
CREATED:20250224T173700Z
LAST-MODIFIED:20250305T162704Z
UID:2990-1745150400-1745182800@pccmississauga.ca
SUMMARY:🌸🎭 Danças da Páscoa! 🎶🐣
DESCRIPTION:Celebrate the rich traditions of the Azores with Danças da Páscoa\, a cherished Easter tradition from Terceira Island! Join us for an evening filled with music\, theatrical performances\, and vibrant storytelling as talented groups take the stage to bring these cultural performances to life. \nDon’t miss this unique cultural event that brings the spirit of Terceira to life! Gather your family and friends for an unforgettable night at PCCM. 📢 For more info\, contact 905.286.1311
URL:https://pccmississauga.ca/event/%f0%9f%8c%b8%f0%9f%8e%ad-dancas-da-pascoa-at-pccm-%f0%9f%8e%b6%f0%9f%90%a3/
LOCATION:PCCM Main Hall\, 53 Queen Street North\, Mississauga\, Ontario\, L5N 1A2\, Canada
ORGANIZER;CN="Portuguese Cultural Centre of Mississauga":MAILTO:secretary@pccmississauga.ca
END:VEVENT
BEGIN:VEVENT
DTSTART;TZID=America/Toronto:20250426T183000
DTEND;TZID=America/Toronto:20250426T233000
DTSTAMP:20260424T114304
CREATED:20250224T175305Z
LAST-MODIFIED:20250224T175305Z
UID:2994-1745692200-1745710200@pccmississauga.ca
SUMMARY:🕊️✨ Festa do Espírito Santo! ✨🕊️
DESCRIPTION:Join us at PCCM as we celebrate the cherished Festa do Espírito Santo\, a beautiful Azorean tradition of faith\, community\, and gratitude. This special event brings people together to honor the spirit of giving and unity\, just as it has for generations in the Azores. Enjoy the authentic Sopas do Espírito Santo and Alcatra\, two beloved dishes of this festival! \nCome share in this meaningful tradition with family and friends as we celebrate heritage\, generosity\, and community spirit. 📢 For more info\, contact 905.286.1311.
URL:https://pccmississauga.ca/event/%f0%9f%95%8a%ef%b8%8f%e2%9c%a8-festa-do-espirito-santo-%e2%9c%a8%f0%9f%95%8a%ef%b8%8f/
LOCATION:PCCM Main Hall\, 53 Queen Street North\, Mississauga\, Ontario\, L5N 1A2\, Canada
ORGANIZER;CN="Portuguese Cultural Centre of Mississauga":MAILTO:secretary@pccmississauga.ca
END:VEVENT
END:VCALENDAR