BEGIN:VCALENDAR
VERSION:2.0
PRODID:-//Portuguese Cultural Centre of Mississauga - ECPv6.15.20//NONSGML v1.0//EN
CALSCALE:GREGORIAN
METHOD:PUBLISH
X-WR-CALNAME:Portuguese Cultural Centre of Mississauga
X-ORIGINAL-URL:https://pccmississauga.ca
X-WR-CALDESC:Events for Portuguese Cultural Centre of Mississauga
REFRESH-INTERVAL;VALUE=DURATION:PT1H
X-Robots-Tag:noindex
X-PUBLISHED-TTL:PT1H
BEGIN:VTIMEZONE
TZID:America/Toronto
BEGIN:DAYLIGHT
TZOFFSETFROM:-0500
TZOFFSETTO:-0400
TZNAME:EDT
DTSTART:20210314T070000
END:DAYLIGHT
BEGIN:STANDARD
TZOFFSETFROM:-0400
TZOFFSETTO:-0500
TZNAME:EST
DTSTART:20211107T060000
END:STANDARD
BEGIN:DAYLIGHT
TZOFFSETFROM:-0500
TZOFFSETTO:-0400
TZNAME:EDT
DTSTART:20220313T070000
END:DAYLIGHT
BEGIN:STANDARD
TZOFFSETFROM:-0400
TZOFFSETTO:-0500
TZNAME:EST
DTSTART:20221106T060000
END:STANDARD
BEGIN:DAYLIGHT
TZOFFSETFROM:-0500
TZOFFSETTO:-0400
TZNAME:EDT
DTSTART:20230312T070000
END:DAYLIGHT
BEGIN:STANDARD
TZOFFSETFROM:-0400
TZOFFSETTO:-0500
TZNAME:EST
DTSTART:20231105T060000
END:STANDARD
BEGIN:DAYLIGHT
TZOFFSETFROM:-0500
TZOFFSETTO:-0400
TZNAME:EDT
DTSTART:20240310T070000
END:DAYLIGHT
BEGIN:STANDARD
TZOFFSETFROM:-0400
TZOFFSETTO:-0500
TZNAME:EST
DTSTART:20241103T060000
END:STANDARD
END:VTIMEZONE
BEGIN:VEVENT
DTSTART;TZID=America/Toronto:20230528T120000
DTEND;TZID=America/Toronto:20230528T190000
DTSTAMP:20260425T082004
CREATED:20230403T190357Z
LAST-MODIFIED:20230403T190357Z
UID:2458-1685275200-1685300400@pccmississauga.ca
SUMMARY:Carassauga - Day 2
DESCRIPTION:
URL:https://pccmississauga.ca/event/carassauga-day-2/
LOCATION:PCCM Main Hall\, 53 Queen Street North\, Mississauga\, Ontario\, L5N 1A2\, Canada
ORGANIZER;CN="Portuguese Cultural Centre of Mississauga":MAILTO:secretary@pccmississauga.ca
END:VEVENT
BEGIN:VEVENT
DTSTART;TZID=America/Toronto:20230527T120000
DTEND;TZID=America/Toronto:20230527T233000
DTSTAMP:20260425T082004
CREATED:20230403T190309Z
LAST-MODIFIED:20230403T190417Z
UID:2456-1685188800-1685230200@pccmississauga.ca
SUMMARY:Carassauga - Day 1
DESCRIPTION:
URL:https://pccmississauga.ca/event/carassauga-day-1/
LOCATION:PCCM Main Hall\, 53 Queen Street North\, Mississauga\, Ontario\, L5N 1A2\, Canada
ORGANIZER;CN="Portuguese Cultural Centre of Mississauga":MAILTO:secretary@pccmississauga.ca
END:VEVENT
BEGIN:VEVENT
DTSTART;TZID=America/Toronto:20230526T193000
DTEND;TZID=America/Toronto:20230526T220000
DTSTAMP:20260425T082004
CREATED:20230403T190211Z
LAST-MODIFIED:20230403T190437Z
UID:2452-1685129400-1685138400@pccmississauga.ca
SUMMARY:Carassauga - Opening Ceremony
DESCRIPTION:
URL:https://pccmississauga.ca/event/carassauga-opening-ceremony/
LOCATION:PCCM Main Hall\, 53 Queen Street North\, Mississauga\, Ontario\, L5N 1A2\, Canada
ORGANIZER;CN="Portuguese Cultural Centre of Mississauga":MAILTO:secretary@pccmississauga.ca
END:VEVENT
BEGIN:VEVENT
DTSTART;TZID=America/Toronto:20230506T190000
DTEND;TZID=America/Toronto:20230506T233000
DTSTAMP:20260425T082004
CREATED:20230215T185203Z
LAST-MODIFIED:20230215T185326Z
UID:2237-1683399600-1683415800@pccmississauga.ca
SUMMARY:Mother's Day
DESCRIPTION:With Miro Freitas and Mexe-Mexe.
URL:https://pccmississauga.ca/event/mothers-day/
LOCATION:PCCM Main Hall\, 53 Queen Street North\, Mississauga\, Ontario\, L5N 1A2\, Canada
ORGANIZER;CN="Portuguese Cultural Centre of Mississauga":MAILTO:secretary@pccmississauga.ca
END:VEVENT
BEGIN:VEVENT
DTSTART;TZID=America/Toronto:20230422T190000
DTEND;TZID=America/Toronto:20230422T233000
DTSTAMP:20260425T082004
CREATED:20230215T184916Z
LAST-MODIFIED:20230215T184916Z
UID:2235-1682190000-1682206200@pccmississauga.ca
SUMMARY:Espírito Santo
DESCRIPTION:Espirito Santo event with Alem Mar
URL:https://pccmississauga.ca/event/espirito-santo/
LOCATION:PCCM Main Hall\, 53 Queen Street North\, Mississauga\, Ontario\, L5N 1A2\, Canada
ORGANIZER;CN="Portuguese Cultural Centre of Mississauga":MAILTO:secretary@pccmississauga.ca
END:VEVENT
BEGIN:VEVENT
DTSTART;TZID=America/Toronto:20230407T170000
DTEND;TZID=America/Toronto:20230407T223000
DTSTAMP:20260425T082004
CREATED:20230215T184813Z
LAST-MODIFIED:20230215T184813Z
UID:2233-1680886800-1680906600@pccmississauga.ca
SUMMARY:Good Friday
DESCRIPTION:Good Friday event with Cesar Russo.
URL:https://pccmississauga.ca/event/good-friday/
LOCATION:PCCM Main Hall\, 53 Queen Street North\, Mississauga\, Ontario\, L5N 1A2\, Canada
ORGANIZER;CN="Portuguese Cultural Centre of Mississauga":MAILTO:secretary@pccmississauga.ca
END:VEVENT
BEGIN:VEVENT
DTSTART;TZID=America/Toronto:20230401T190000
DTEND;TZID=America/Toronto:20230401T233000
DTSTAMP:20260425T082004
CREATED:20230215T184719Z
LAST-MODIFIED:20230224T151627Z
UID:2231-1680375600-1680391800@pccmississauga.ca
SUMMARY:Baile do 70s & 80s
DESCRIPTION:Let’s celebrate the 70’s and 80’s with Tabú.
URL:https://pccmississauga.ca/event/baile-do-70s-80s/
LOCATION:PCCM Main Hall\, 53 Queen Street North\, Mississauga\, Ontario\, L5N 1A2\, Canada
ORGANIZER;CN="Portuguese Cultural Centre of Mississauga":MAILTO:secretary@pccmississauga.ca
END:VEVENT
BEGIN:VEVENT
DTSTART;TZID=America/Toronto:20230325T180000
DTEND;TZID=America/Toronto:20230325T233000
DTSTAMP:20260425T082004
CREATED:20230112T220057Z
LAST-MODIFIED:20230112T220124Z
UID:2179-1679767200-1679787000@pccmississauga.ca
SUMMARY:Cantorias
DESCRIPTION:
URL:https://pccmississauga.ca/event/cantorias/
LOCATION:PCCM Main Hall\, 53 Queen Street North\, Mississauga\, Ontario\, L5N 1A2\, Canada
ORGANIZER;CN="Portuguese Cultural Centre of Mississauga":MAILTO:secretary@pccmississauga.ca
END:VEVENT
BEGIN:VEVENT
DTSTART;TZID=America/Toronto:20230318T183000
DTEND;TZID=America/Toronto:20230318T235900
DTSTAMP:20260425T082004
CREATED:20230130T155858Z
LAST-MODIFIED:20230130T155951Z
UID:2212-1679164200-1679183940@pccmississauga.ca
SUMMARY:Hawaiian Night
DESCRIPTION:Celebrate Hawaiian Night with us. Cesar Russo will provide the entertainment.
URL:https://pccmississauga.ca/event/hawaiian-night/
LOCATION:PCCM Main Hall\, 53 Queen Street North\, Mississauga\, Ontario\, L5N 1A2\, Canada
ORGANIZER;CN="Portuguese Cultural Centre of Mississauga":MAILTO:secretary@pccmississauga.ca
END:VEVENT
BEGIN:VEVENT
DTSTART;TZID=America/Toronto:20230311T183000
DTEND;TZID=America/Toronto:20230311T235900
DTSTAMP:20260425T082004
CREATED:20230130T154846Z
LAST-MODIFIED:20230130T154846Z
UID:2204-1678559400-1678579140@pccmississauga.ca
SUMMARY:Noite de Artistas
DESCRIPTION:Night of local artists with João Marques and friends.
URL:https://pccmississauga.ca/event/noite-de-artistas/
LOCATION:PCCM Main Hall\, 53 Queen Street North\, Mississauga\, Ontario\, L5N 1A2\, Canada
ORGANIZER;CN="Portuguese Cultural Centre of Mississauga":MAILTO:secretary@pccmississauga.ca
END:VEVENT
BEGIN:VEVENT
DTSTART;TZID=America/Toronto:20230310T190000
DTEND;TZID=America/Toronto:20230310T233000
DTSTAMP:20260425T082004
CREATED:20230214T214522Z
LAST-MODIFIED:20230214T214655Z
UID:2226-1678474800-1678491000@pccmississauga.ca
SUMMARY:Fado Night
DESCRIPTION:
URL:https://pccmississauga.ca/event/fado-night/
LOCATION:Restaurant – Basement\, 53 Queen Street North\, Mississauga\, Ontario\, L5N 1A2\, Canada
ORGANIZER;CN="Portuguese Cultural Centre of Mississauga":MAILTO:secretary@pccmississauga.ca
END:VEVENT
BEGIN:VEVENT
DTSTART;TZID=America/Toronto:20230304T183000
DTEND;TZID=America/Toronto:20230304T235900
DTSTAMP:20260425T082004
CREATED:20230130T154726Z
LAST-MODIFIED:20230211T150357Z
UID:2202-1677954600-1677974340@pccmississauga.ca
SUMMARY:Dia Internacional da Mulher
DESCRIPTION:Celebrate Women’s Internacional Day with us. Karma band will provide the entertainment.
URL:https://pccmississauga.ca/event/dia-internacional-da-mulher/
LOCATION:PCCM Main Hall\, 53 Queen Street North\, Mississauga\, Ontario\, L5N 1A2\, Canada
ORGANIZER;CN="Portuguese Cultural Centre of Mississauga":MAILTO:secretary@pccmississauga.ca
END:VEVENT
BEGIN:VEVENT
DTSTART;TZID=America/Toronto:20230225T183000
DTEND;TZID=America/Toronto:20230225T235900
DTSTAMP:20260425T082004
CREATED:20230130T154523Z
LAST-MODIFIED:20230130T154523Z
UID:2200-1677349800-1677369540@pccmississauga.ca
SUMMARY:Baile do Chicharro
DESCRIPTION:Baile do Chicharro (Baile do Sócio) with the band Unique Touch.
URL:https://pccmississauga.ca/event/baile-do-chicharro/
LOCATION:PCCM Main Hall\, 53 Queen Street North\, Mississauga\, Ontario\, L5N 1A2\, Canada
ORGANIZER;CN="Portuguese Cultural Centre of Mississauga":MAILTO:secretary@pccmississauga.ca
END:VEVENT
BEGIN:VEVENT
DTSTART;TZID=America/Toronto:20230219T120000
DTEND;TZID=America/Toronto:20230219T210000
DTSTAMP:20260425T082004
CREATED:20230130T154322Z
LAST-MODIFIED:20230130T154322Z
UID:2198-1676808000-1676840400@pccmississauga.ca
SUMMARY:Danças do Carnaval
DESCRIPTION:Celebrate this Island of Terceira tradition at PCCM.
URL:https://pccmississauga.ca/event/dancas-do-carnaval/
LOCATION:PCCM Main Hall\, 53 Queen Street North\, Mississauga\, Ontario\, L5N 1A2\, Canada
ORGANIZER;CN="Portuguese Cultural Centre of Mississauga":MAILTO:secretary@pccmississauga.ca
END:VEVENT
BEGIN:VEVENT
DTSTART;TZID=America/Toronto:20230211T183000
DTEND;TZID=America/Toronto:20230211T233000
DTSTAMP:20260425T082004
CREATED:20230112T220323Z
LAST-MODIFIED:20230120T184254Z
UID:2188-1676140200-1676158200@pccmississauga.ca
SUMMARY:Valentines Day | Baile dos Namorados
DESCRIPTION:
URL:https://pccmississauga.ca/event/valentines-day-baile-dos-namorados/
LOCATION:PCCM Main Hall\, 53 Queen Street North\, Mississauga\, Ontario\, L5N 1A2\, Canada
ORGANIZER;CN="Portuguese Cultural Centre of Mississauga":MAILTO:secretary@pccmississauga.ca
END:VEVENT
BEGIN:VEVENT
DTSTART;TZID=America/Toronto:20230204T183000
DTEND;TZID=America/Toronto:20230204T233000
DTSTAMP:20260425T082004
CREATED:20230112T215233Z
LAST-MODIFIED:20230112T215233Z
UID:2177-1675535400-1675553400@pccmississauga.ca
SUMMARY:Directors Party | Baile da Nova Direção
DESCRIPTION:Welcome the Board of Directors for 2023. From Portugal\, Fernando Correia Marques and the band Santa Fe.
URL:https://pccmississauga.ca/event/directors-party-baile-da-nova-direcao/
LOCATION:PCCM Main Hall\, 53 Queen Street North\, Mississauga\, Ontario\, L5N 1A2\, Canada
ORGANIZER;CN="Portuguese Cultural Centre of Mississauga":MAILTO:secretary@pccmississauga.ca
END:VEVENT
BEGIN:VEVENT
DTSTART;TZID=America/Toronto:20230129T130000
DTEND;TZID=America/Toronto:20230129T170000
DTSTAMP:20260425T082004
CREATED:20230112T215020Z
LAST-MODIFIED:20230112T215053Z
UID:2175-1674997200-1675011600@pccmississauga.ca
SUMMARY:General Assembly | Assembleia Geral
DESCRIPTION:Annual General Assembly for MEMBERS ONLY!
URL:https://pccmississauga.ca/event/general-assembly-assembleia-geral/
LOCATION:PCCM Main Hall\, 53 Queen Street North\, Mississauga\, Ontario\, L5N 1A2\, Canada
ORGANIZER;CN="Portuguese Cultural Centre of Mississauga":MAILTO:secretary@pccmississauga.ca
END:VEVENT
BEGIN:VEVENT
DTSTART;TZID=America/Toronto:20230114T183000
DTEND;TZID=America/Toronto:20230114T233000
DTSTAMP:20260425T082004
CREATED:20230112T214802Z
LAST-MODIFIED:20230112T214838Z
UID:2172-1673721000-1673739000@pccmississauga.ca
SUMMARY:Directors Party | Despedida da Direção
DESCRIPTION:Celebrate the board of directors from 2022 and the year that was. Entertainment by the band Santa Fe.
URL:https://pccmississauga.ca/event/directors-party-despedida-da-direcao/
LOCATION:PCCM Main Hall\, 53 Queen Street North\, Mississauga\, Ontario\, L5N 1A2\, Canada
ORGANIZER;CN="Portuguese Cultural Centre of Mississauga":MAILTO:secretary@pccmississauga.ca
END:VEVENT
BEGIN:VEVENT
DTSTART;TZID=America/Toronto:20221231T190000
DTEND;TZID=America/Toronto:20221231T233000
DTSTAMP:20260425T082004
CREATED:20221018T175605Z
LAST-MODIFIED:20221019T011318Z
UID:1462-1672513200-1672529400@pccmississauga.ca
SUMMARY:New Year's Bash
DESCRIPTION:With Sagres Band
URL:https://pccmississauga.ca/event/new-years-bash/
LOCATION:PCCM Main Hall\, 53 Queen Street North\, Mississauga\, Ontario\, L5N 1A2\, Canada
ORGANIZER;CN="Portuguese Cultural Centre of Mississauga":MAILTO:secretary@pccmississauga.ca
END:VEVENT
BEGIN:VEVENT
DTSTART;TZID=America/Toronto:20221217T190000
DTEND;TZID=America/Toronto:20221217T233000
DTSTAMP:20260425T082004
CREATED:20221018T175213Z
LAST-MODIFIED:20221018T194519Z
UID:1454-1671303600-1671319800@pccmississauga.ca
SUMMARY:Christmas Party
DESCRIPTION:With Tony Camara Band/
URL:https://pccmississauga.ca/event/christmas-party/
LOCATION:PCCM Main Hall\, 53 Queen Street North\, Mississauga\, Ontario\, L5N 1A2\, Canada
ORGANIZER;CN="Portuguese Cultural Centre of Mississauga":MAILTO:secretary@pccmississauga.ca
END:VEVENT
BEGIN:VEVENT
DTSTART;TZID=America/Toronto:20221126T190000
DTEND;TZID=America/Toronto:20221126T190000
DTSTAMP:20260425T082004
CREATED:20221018T175033Z
LAST-MODIFIED:20221020T201758Z
UID:1452-1669489200-1669489200@pccmississauga.ca
SUMMARY:PCCM 48th Anniversary - Gala Dinner
DESCRIPTION:With Sagres Band
URL:https://pccmississauga.ca/event/pccm-48th-anniversary-gala-dinner/
LOCATION:PCCM Main Hall\, 53 Queen Street North\, Mississauga\, Ontario\, L5N 1A2\, Canada
ORGANIZER;CN="Portuguese Cultural Centre of Mississauga":MAILTO:secretary@pccmississauga.ca
END:VEVENT
BEGIN:VEVENT
DTSTART;TZID=America/Toronto:20221120T120000
DTEND;TZID=America/Toronto:20221120T170000
DTSTAMP:20260425T082004
CREATED:20221018T174751Z
LAST-MODIFIED:20221021T151924Z
UID:1450-1668945600-1668963600@pccmississauga.ca
SUMMARY:Porto de Honra
DESCRIPTION:With Henrik Cipriano
URL:https://pccmississauga.ca/event/porto-de-honra/
LOCATION:PCCM Main Hall\, 53 Queen Street North\, Mississauga\, Ontario\, L5N 1A2\, Canada
ORGANIZER;CN="Portuguese Cultural Centre of Mississauga":MAILTO:secretary@pccmississauga.ca
END:VEVENT
BEGIN:VEVENT
DTSTART;TZID=America/Toronto:20221119T183000
DTEND;TZID=America/Toronto:20221119T233000
DTSTAMP:20260425T082004
CREATED:20221018T173951Z
LAST-MODIFIED:20221019T012911Z
UID:1444-1668882600-1668900600@pccmississauga.ca
SUMMARY:PRIVATE - FadoALado
DESCRIPTION:
URL:https://pccmississauga.ca/event/private-fadoalado/
LOCATION:PCCM Main Hall\, 53 Queen Street North\, Mississauga\, Ontario\, L5N 1A2\, Canada
END:VEVENT
BEGIN:VEVENT
DTSTART;TZID=America/Toronto:20221112T183000
DTEND;TZID=America/Toronto:20221112T233000
DTSTAMP:20260425T082004
CREATED:20221018T173501Z
LAST-MODIFIED:20221019T012553Z
UID:1439-1668277800-1668295800@pccmississauga.ca
SUMMARY:PRIVATE - CM Canada Anniversary
DESCRIPTION:  \n\n 
URL:https://pccmississauga.ca/event/cm-canada-anniversary/
LOCATION:PCCM Main Hall\, 53 Queen Street North\, Mississauga\, Ontario\, L5N 1A2\, Canada
END:VEVENT
BEGIN:VEVENT
DTSTART;TZID=America/Toronto:20221105T180000
DTEND;TZID=America/Toronto:20221105T233000
DTSTAMP:20260425T082004
CREATED:20221018T172812Z
LAST-MODIFIED:20221019T012204Z
UID:1436-1667671200-1667691000@pccmississauga.ca
SUMMARY:Community Spirit Award - Manuel DaCosta
DESCRIPTION:
URL:https://pccmississauga.ca/event/community-spirit-award-manuel-dacosta/
LOCATION:PCCM Main Hall\, 53 Queen Street North\, Mississauga\, Ontario\, L5N 1A2\, Canada
ORGANIZER;CN="Portuguese Cultural Centre of Mississauga":MAILTO:secretary@pccmississauga.ca
END:VEVENT
BEGIN:VEVENT
DTSTART;TZID=America/Toronto:20221029T190000
DTEND;TZID=America/Toronto:20221029T233000
DTSTAMP:20260425T082004
CREATED:20221018T160331Z
LAST-MODIFIED:20221019T012015Z
UID:1433-1667070000-1667086200@pccmississauga.ca
SUMMARY:Halloween Dance & Dinner
DESCRIPTION: 
URL:https://pccmississauga.ca/event/halloween-dance-dinner/
LOCATION:PCCM Main Hall\, 53 Queen Street North\, Mississauga\, Ontario\, L5N 1A2\, Canada
ORGANIZER;CN="Portuguese Cultural Centre of Mississauga":MAILTO:secretary@pccmississauga.ca
END:VEVENT
BEGIN:VEVENT
DTSTART;TZID=America/Toronto:20221028T210000
DTEND;TZID=America/Toronto:20221028T230000
DTSTAMP:20260425T082004
CREATED:20221018T152700Z
LAST-MODIFIED:20221018T201652Z
UID:1399-1666990800-1666998000@pccmississauga.ca
SUMMARY:PCCM's Haunted Hallway
DESCRIPTION:
URL:https://pccmississauga.ca/event/pccms-haunted-hallway/
LOCATION:PCCM Folklore Room – Basement\, 53 Queen Street North\, Mississauga\, Ontario\, L5N 1A2\, Canada
END:VEVENT
BEGIN:VEVENT
DTSTART;TZID=America/Toronto:20221018T080000
DTEND;TZID=America/Toronto:20221018T170000
DTSTAMP:20260425T082004
CREATED:20221022T153713Z
LAST-MODIFIED:20221022T153738Z
UID:1404-1666080000-1666112400@pccmississauga.ca
SUMMARY:PCCM Folklore Group 35th Anniversary
DESCRIPTION:← Back Thank you for your response. ✨\n\n\n					\n						\n							\n							\n						\n						\n						\n						\n						\n							\n								\n									\n										\n										\n									\n									\n										\n										\n									\n								\n							\n						\n						\n							\n								\n									\n									\n										\n									\n									\n									\n								\n							\n						\n					\n				\n\n\n\nName(required)\n\n \n			\n				\n					\n						\n						\n						\n					\n				\n				\n			 \n	\n\n\nEmail(required)\n\n \n			\n				\n					\n						\n						\n						\n					\n				\n				\n			 \n	\n\n\nWebsite\n\n \n			\n				\n					\n						\n						\n						\n					\n				\n				\n			 \n	\n\n\nMessage\n\n \n			\n				\n					\n						\n						\n						\n					\n				\n				\n			\n	\n	\n\n				\n					\n				\n						Submit		\n		\n		\n	 \n\n\n\n← Back Thank you for your response. ✨\n\n\n					\n						\n							\n							\n						\n						\n						\n						\n						\n							\n								\n									\n										\n										\n									\n									\n										\n										\n									\n								\n							\n						\n						\n							\n								\n									\n									\n										\n									\n									\n									\n								\n							\n						\n					\n				\n\n\n\nName(required)\n\n \n			\n				\n					\n						\n						\n						\n					\n				\n				\n			 \n	\n\n\nEmail(required)\n\n \n			\n				\n					\n						\n						\n						\n					\n				\n				\n			 \n	\n\n\nWebsite\n\n \n			\n				\n					\n						\n						\n						\n					\n				\n				\n			 \n	\n\n\nMessage\n\n \n			\n				\n					\n						\n						\n						\n					\n				\n				\n			\n	\n	\n\n				\n					\n				\n						Submit
URL:https://pccmississauga.ca/event/pccm-folklore-group-35th-anniversary/
LOCATION:PCCM Main Hall\, 53 Queen Street North\, Mississauga\, Ontario\, L5N 1A2\, Canada
ORGANIZER;CN="Portuguese Cultural Centre of Mississauga":MAILTO:secretary@pccmississauga.ca
END:VEVENT
END:VCALENDAR