BEGIN:VCALENDAR
VERSION:2.0
PRODID:-//Portuguese Cultural Centre of Mississauga - ECPv6.15.20//NONSGML v1.0//EN
CALSCALE:GREGORIAN
METHOD:PUBLISH
X-WR-CALNAME:Portuguese Cultural Centre of Mississauga
X-ORIGINAL-URL:https://pccmississauga.ca
X-WR-CALDESC:Events for Portuguese Cultural Centre of Mississauga
REFRESH-INTERVAL;VALUE=DURATION:PT1H
X-Robots-Tag:noindex
X-PUBLISHED-TTL:PT1H
BEGIN:VTIMEZONE
TZID:America/Toronto
BEGIN:DAYLIGHT
TZOFFSETFROM:-0500
TZOFFSETTO:-0400
TZNAME:EDT
DTSTART:20220313T070000
END:DAYLIGHT
BEGIN:STANDARD
TZOFFSETFROM:-0400
TZOFFSETTO:-0500
TZNAME:EST
DTSTART:20221106T060000
END:STANDARD
BEGIN:DAYLIGHT
TZOFFSETFROM:-0500
TZOFFSETTO:-0400
TZNAME:EDT
DTSTART:20230312T070000
END:DAYLIGHT
BEGIN:STANDARD
TZOFFSETFROM:-0400
TZOFFSETTO:-0500
TZNAME:EST
DTSTART:20231105T060000
END:STANDARD
BEGIN:DAYLIGHT
TZOFFSETFROM:-0500
TZOFFSETTO:-0400
TZNAME:EDT
DTSTART:20240310T070000
END:DAYLIGHT
BEGIN:STANDARD
TZOFFSETFROM:-0400
TZOFFSETTO:-0500
TZNAME:EST
DTSTART:20241103T060000
END:STANDARD
BEGIN:DAYLIGHT
TZOFFSETFROM:-0500
TZOFFSETTO:-0400
TZNAME:EDT
DTSTART:20250309T070000
END:DAYLIGHT
BEGIN:STANDARD
TZOFFSETFROM:-0400
TZOFFSETTO:-0500
TZNAME:EST
DTSTART:20251102T060000
END:STANDARD
END:VTIMEZONE
BEGIN:VEVENT
DTSTART;TZID=America/Toronto:20240518T183000
DTEND;TZID=America/Toronto:20240518T233000
DTSTAMP:20260424T115038
CREATED:20240411T144242Z
LAST-MODIFIED:20240411T144242Z
UID:2614-1716057000-1716075000@pccmississauga.ca
SUMMARY:Private Event
DESCRIPTION:Private Event
URL:https://pccmississauga.ca/event/private-event-4/
LOCATION:PCCM Main Hall\, 53 Queen Street North\, Mississauga\, Ontario\, L5N 1A2\, Canada
END:VEVENT
BEGIN:VEVENT
DTSTART;TZID=America/Toronto:20240511T183000
DTEND;TZID=America/Toronto:20240511T233000
DTSTAMP:20260424T115038
CREATED:20240309T152253Z
LAST-MODIFIED:20240311T132231Z
UID:2597-1715452200-1715470200@pccmississauga.ca
SUMMARY:Mother's Day
DESCRIPTION:Mother’s Day event with José Alberto Reis and Karma Band.
URL:https://pccmississauga.ca/event/mothers-day-2/
LOCATION:PCCM Main Hall\, 53 Queen Street North\, Mississauga\, Ontario\, L5N 1A2\, Canada
ORGANIZER;CN="Portuguese Cultural Centre of Mississauga":MAILTO:secretary@pccmississauga.ca
END:VEVENT
BEGIN:VEVENT
DTSTART;TZID=America/Toronto:20240504T183000
DTEND;TZID=America/Toronto:20240504T233000
DTSTAMP:20260424T115038
CREATED:20240411T144124Z
LAST-MODIFIED:20240411T144124Z
UID:2612-1714847400-1714865400@pccmississauga.ca
SUMMARY:Private Event
DESCRIPTION:Private Event.
URL:https://pccmississauga.ca/event/private-event-3/
LOCATION:PCCM Main Hall\, 53 Queen Street North\, Mississauga\, Ontario\, L5N 1A2\, Canada
END:VEVENT
BEGIN:VEVENT
DTSTART;TZID=America/Toronto:20240427T183000
DTEND;TZID=America/Toronto:20240427T233000
DTSTAMP:20260424T115038
CREATED:20240411T144018Z
LAST-MODIFIED:20240411T144018Z
UID:2608-1714242600-1714260600@pccmississauga.ca
SUMMARY:Festa do Espírito Santo
DESCRIPTION:Festa do Espírito Santo with the band Unique Touch.
URL:https://pccmississauga.ca/event/festa-do-espirito-santo/
LOCATION:PCCM Main Hall\, 53 Queen Street North\, Mississauga\, Ontario\, L5N 1A2\, Canada
ORGANIZER;CN="Portuguese Cultural Centre of Mississauga":MAILTO:secretary@pccmississauga.ca
END:VEVENT
BEGIN:VEVENT
DTSTART;TZID=America/Toronto:20240413T183000
DTEND;TZID=America/Toronto:20240413T233000
DTSTAMP:20260424T115038
CREATED:20240309T151531Z
LAST-MODIFIED:20240309T151531Z
UID:2593-1713033000-1713051000@pccmississauga.ca
SUMMARY:Masquerade Ball
DESCRIPTION:Masquerade Ball with the band Tabu\, presented by the PCCM Youth Group!
URL:https://pccmississauga.ca/event/masquerade-ball/
LOCATION:PCCM Main Hall\, 53 Queen Street North\, Mississauga\, Ontario\, L5N 1A2\, Canada
ORGANIZER;CN="Portuguese Cultural Centre of Mississauga":MAILTO:secretary@pccmississauga.ca
END:VEVENT
BEGIN:VEVENT
DTSTART;TZID=America/Toronto:20240406T180000
DTEND;TZID=America/Toronto:20240406T233000
DTSTAMP:20260424T115038
CREATED:20240209T164857Z
LAST-MODIFIED:20240209T164857Z
UID:2579-1712426400-1712446200@pccmississauga.ca
SUMMARY:Baile dos Açores
DESCRIPTION:
URL:https://pccmississauga.ca/event/baile-dos-acores-2/
LOCATION:PCCM Main Hall\, 53 Queen Street North\, Mississauga\, Ontario\, L5N 1A2\, Canada
ORGANIZER;CN="Portuguese Cultural Centre of Mississauga":MAILTO:secretary@pccmississauga.ca
END:VEVENT
BEGIN:VEVENT
DTSTART;TZID=America/Toronto:20240331T130000
DTEND;TZID=America/Toronto:20240331T200000
DTSTAMP:20260424T115038
CREATED:20240209T164651Z
LAST-MODIFIED:20240209T164651Z
UID:2577-1711890000-1711915200@pccmississauga.ca
SUMMARY:Danças Pascais
DESCRIPTION:
URL:https://pccmississauga.ca/event/dancas-pascais/
LOCATION:PCCM Main Hall\, 53 Queen Street North\, Mississauga\, Ontario\, L5N 1A2\, Canada
ORGANIZER;CN="Portuguese Cultural Centre of Mississauga":MAILTO:secretary@pccmississauga.ca
END:VEVENT
BEGIN:VEVENT
DTSTART;TZID=America/Toronto:20240329T170000
DTEND;TZID=America/Toronto:20240329T220000
DTSTAMP:20260424T115038
CREATED:20240209T165118Z
LAST-MODIFIED:20240209T165555Z
UID:2585-1711731600-1711749600@pccmississauga.ca
SUMMARY:Sexta Feira Santa
DESCRIPTION:
URL:https://pccmississauga.ca/event/sexta-feira-santa/
LOCATION:PCCM Main Hall\, 53 Queen Street North\, Mississauga\, Ontario\, L5N 1A2\, Canada
ORGANIZER;CN="Portuguese Cultural Centre of Mississauga":MAILTO:secretary@pccmississauga.ca
END:VEVENT
BEGIN:VEVENT
DTSTART;TZID=America/Toronto:20240324T130000
DTEND;TZID=America/Toronto:20240324T200000
DTSTAMP:20260424T115038
CREATED:20240209T165032Z
LAST-MODIFIED:20240209T165032Z
UID:2583-1711285200-1711310400@pccmississauga.ca
SUMMARY:Luso Can Tuna
DESCRIPTION:
URL:https://pccmississauga.ca/event/luso-can-tuna/
LOCATION:PCCM Main Hall\, 53 Queen Street North\, Mississauga\, Ontario\, L5N 1A2\, Canada
ORGANIZER;CN="Portuguese Cultural Centre of Mississauga":MAILTO:secretary@pccmississauga.ca
END:VEVENT
BEGIN:VEVENT
DTSTART;VALUE=DATE:20240323
DTEND;VALUE=DATE:20240324
DTSTAMP:20260424T115038
CREATED:20240109T165133Z
LAST-MODIFIED:20240109T165133Z
UID:2570-1711152000-1711238399@pccmississauga.ca
SUMMARY:Private Event
DESCRIPTION:
URL:https://pccmississauga.ca/event/private-event-2/
LOCATION:PCCM Main Hall\, 53 Queen Street North\, Mississauga\, Ontario\, L5N 1A2\, Canada
END:VEVENT
BEGIN:VEVENT
DTSTART;VALUE=DATE:20240316
DTEND;VALUE=DATE:20240317
DTSTAMP:20260424T115038
CREATED:20240109T165102Z
LAST-MODIFIED:20240109T165102Z
UID:2568-1710547200-1710633599@pccmississauga.ca
SUMMARY:Private Event
DESCRIPTION:
URL:https://pccmississauga.ca/event/private-event/
LOCATION:PCCM Main Hall\, 53 Queen Street North\, Mississauga\, Ontario\, L5N 1A2\, Canada
END:VEVENT
BEGIN:VEVENT
DTSTART;TZID=America/Toronto:20240309T183000
DTEND;TZID=America/Toronto:20240309T233000
DTSTAMP:20260424T115038
CREATED:20240108T194357Z
LAST-MODIFIED:20240108T194725Z
UID:2564-1710009000-1710027000@pccmississauga.ca
SUMMARY:Noite de Fado da Terceira
DESCRIPTION:Noite de Fado com fadistas da ilha Terceira\, Fabio Ourique\, Vera Brasil e do Canada\, Sandra Silva.
URL:https://pccmississauga.ca/event/noite-de-fado-da-terceira/
LOCATION:PCCM Main Hall\, 53 Queen Street North\, Mississauga\, Ontario\, L5N 1A2\, Canada
ORGANIZER;CN="Portuguese Cultural Centre of Mississauga":MAILTO:secretary@pccmississauga.ca
END:VEVENT
BEGIN:VEVENT
DTSTART;TZID=America/Toronto:20240224T183000
DTEND;TZID=America/Toronto:20240224T233000
DTSTAMP:20260424T115038
CREATED:20240107T000017Z
LAST-MODIFIED:20240107T000017Z
UID:2554-1708799400-1708817400@pccmississauga.ca
SUMMARY:Baile do dia da Fundação do Clube
DESCRIPTION:Baile do dia da Fundação do Clube com Duo Som Luso
URL:https://pccmississauga.ca/event/baile-do-dia-da-fundacao-do-clube/
LOCATION:PCCM Main Hall\, 53 Queen Street North\, Mississauga\, Ontario\, L5N 1A2\, Canada
ORGANIZER;CN="Portuguese Cultural Centre of Mississauga":MAILTO:secretary@pccmississauga.ca
END:VEVENT
BEGIN:VEVENT
DTSTART;TZID=America/Toronto:20240217T183000
DTEND;TZID=America/Toronto:20240217T233000
DTSTAMP:20260424T115038
CREATED:20240106T235917Z
LAST-MODIFIED:20240108T194414Z
UID:2552-1708194600-1708212600@pccmississauga.ca
SUMMARY:Valentines Day
DESCRIPTION:Valentines Day com Paulo Ribeiro e Tabu.
URL:https://pccmississauga.ca/event/valentines-day/
LOCATION:PCCM Main Hall\, 53 Queen Street North\, Mississauga\, Ontario\, L5N 1A2\, Canada
ORGANIZER;CN="Portuguese Cultural Centre of Mississauga":MAILTO:secretary@pccmississauga.ca
END:VEVENT
BEGIN:VEVENT
DTSTART;TZID=America/Toronto:20240211T120000
DTEND;TZID=America/Toronto:20240211T200000
DTSTAMP:20260424T115038
CREATED:20240106T235819Z
LAST-MODIFIED:20240106T235819Z
UID:2550-1707652800-1707681600@pccmississauga.ca
SUMMARY:Danças do Carnaval
DESCRIPTION:Danças do Carnaval
URL:https://pccmississauga.ca/event/dancas-do-carnaval-2/
LOCATION:PCCM Main Hall\, 53 Queen Street North\, Mississauga\, Ontario\, L5N 1A2\, Canada
ORGANIZER;CN="Portuguese Cultural Centre of Mississauga":MAILTO:secretary@pccmississauga.ca
END:VEVENT
BEGIN:VEVENT
DTSTART;TZID=America/Toronto:20240203T183000
DTEND;TZID=America/Toronto:20240203T233000
DTSTAMP:20260424T115038
CREATED:20240106T235724Z
LAST-MODIFIED:20240106T235724Z
UID:2548-1706985000-1707003000@pccmississauga.ca
SUMMARY:Baile da Direção - 50 anos
DESCRIPTION:Baile da Direção – 50 anos com Karma Band
URL:https://pccmississauga.ca/event/baile-da-direcao-50-anos/
LOCATION:PCCM Main Hall\, 53 Queen Street North\, Mississauga\, Ontario\, L5N 1A2\, Canada
ORGANIZER;CN="Portuguese Cultural Centre of Mississauga":MAILTO:secretary@pccmississauga.ca
END:VEVENT
BEGIN:VEVENT
DTSTART;TZID=America/Toronto:20240128T120000
DTEND;TZID=America/Toronto:20240128T150000
DTSTAMP:20260424T115038
CREATED:20240106T235610Z
LAST-MODIFIED:20240106T235610Z
UID:2546-1706443200-1706454000@pccmississauga.ca
SUMMARY:Assembleia Geral
DESCRIPTION:Assembleia Geral para sócios.
URL:https://pccmississauga.ca/event/assembleia-geral/
LOCATION:PCCM Main Hall\, 53 Queen Street North\, Mississauga\, Ontario\, L5N 1A2\, Canada
ORGANIZER;CN="Portuguese Cultural Centre of Mississauga":MAILTO:secretary@pccmississauga.ca
END:VEVENT
BEGIN:VEVENT
DTSTART;TZID=America/Toronto:20240127T183000
DTEND;TZID=America/Toronto:20240127T233000
DTSTAMP:20260424T115038
CREATED:20240106T235508Z
LAST-MODIFIED:20240106T235508Z
UID:2544-1706380200-1706398200@pccmississauga.ca
SUMMARY:Baile da Direção de 2023
DESCRIPTION:Baile da Direção de 2023 com Tabu
URL:https://pccmississauga.ca/event/baile-da-direcao-de-2023/
LOCATION:PCCM Main Hall\, 53 Queen Street North\, Mississauga\, Ontario\, L5N 1A2\, Canada
ORGANIZER;CN="Portuguese Cultural Centre of Mississauga":MAILTO:secretary@pccmississauga.ca
END:VEVENT
BEGIN:VEVENT
DTSTART;TZID=America/Toronto:20240120T183000
DTEND;TZID=America/Toronto:20240120T233000
DTSTAMP:20260424T115038
CREATED:20240106T235405Z
LAST-MODIFIED:20240106T235405Z
UID:2542-1705775400-1705793400@pccmississauga.ca
SUMMARY:Baile de Janeiro
DESCRIPTION:Baile de Janeiro com Mexe-Mexe
URL:https://pccmississauga.ca/event/baile-de-janeiro/
LOCATION:PCCM Main Hall\, 53 Queen Street North\, Mississauga\, Ontario\, L5N 1A2\, Canada
ORGANIZER;CN="Portuguese Cultural Centre of Mississauga":MAILTO:secretary@pccmississauga.ca
END:VEVENT
BEGIN:VEVENT
DTSTART;TZID=America/Toronto:20240113T183000
DTEND;TZID=America/Toronto:20240113T233000
DTSTAMP:20260424T115038
CREATED:20240106T235225Z
LAST-MODIFIED:20240106T235225Z
UID:2540-1705170600-1705188600@pccmississauga.ca
SUMMARY:Baile do Ano Novo
DESCRIPTION:Baile do Ano Novo com Duo Som Luso
URL:https://pccmississauga.ca/event/baile-do-ano-novo/
LOCATION:PCCM Main Hall\, 53 Queen Street North\, Mississauga\, Ontario\, L5N 1A2\, Canada
ORGANIZER;CN="Portuguese Cultural Centre of Mississauga":MAILTO:secretary@pccmississauga.ca
END:VEVENT
BEGIN:VEVENT
DTSTART;TZID=America/Toronto:20231231T183000
DTEND;TZID=America/Toronto:20231231T233000
DTSTAMP:20260424T115038
CREATED:20231204T171519Z
LAST-MODIFIED:20231204T171519Z
UID:2536-1704047400-1704065400@pccmississauga.ca
SUMMARY:New Years Event
DESCRIPTION:New Years party at PCCM with Karma Banda.
URL:https://pccmississauga.ca/event/new-years-event/
LOCATION:PCCM Main Hall\, 53 Queen Street North\, Mississauga\, Ontario\, L5N 1A2\, Canada
ORGANIZER;CN="Portuguese Cultural Centre of Mississauga":MAILTO:secretary@pccmississauga.ca
END:VEVENT
BEGIN:VEVENT
DTSTART;TZID=America/Toronto:20231217T110000
DTEND;TZID=America/Toronto:20231217T150000
DTSTAMP:20260424T115038
CREATED:20231204T171427Z
LAST-MODIFIED:20231204T171427Z
UID:2534-1702810800-1702825200@pccmississauga.ca
SUMMARY:Breakfast with Santa
DESCRIPTION:Youth group presents Breakfast with Santa.
URL:https://pccmississauga.ca/event/breakfast-with-santa/
LOCATION:PCCM Main Hall\, 53 Queen Street North\, Mississauga\, Ontario\, L5N 1A2\, Canada
ORGANIZER;CN="Portuguese Cultural Centre of Mississauga":MAILTO:secretary@pccmississauga.ca
END:VEVENT
BEGIN:VEVENT
DTSTART;TZID=America/Toronto:20231216T183000
DTEND;TZID=America/Toronto:20231216T233000
DTSTAMP:20260424T115038
CREATED:20231204T171320Z
LAST-MODIFIED:20231204T171320Z
UID:2532-1702751400-1702769400@pccmississauga.ca
SUMMARY:Christmas Party
DESCRIPTION:PCCM Christmas party. Nativity play and entertainment by Santa Fe.
URL:https://pccmississauga.ca/event/christmas-party-2/
LOCATION:PCCM Main Hall\, 53 Queen Street North\, Mississauga\, Ontario\, L5N 1A2\, Canada
ORGANIZER;CN="Portuguese Cultural Centre of Mississauga":MAILTO:secretary@pccmississauga.ca
END:VEVENT
BEGIN:VEVENT
DTSTART;TZID=America/Toronto:20231125T063000
DTEND;TZID=America/Toronto:20231125T233000
DTSTAMP:20260424T115038
CREATED:20231107T145017Z
LAST-MODIFIED:20231107T145056Z
UID:2527-1700893800-1700955000@pccmississauga.ca
SUMMARY:PCCM 49th Anniversary Gala
DESCRIPTION:Celebrate our 49th Anniversary. Gala dinner with entertainment by Johnny and Karma Banda.
URL:https://pccmississauga.ca/event/pccm-49th-anniversary-gala/
LOCATION:PCCM Main Hall\, 53 Queen Street North\, Mississauga\, Ontario\, L5N 1A2\, Canada
ORGANIZER;CN="Portuguese Cultural Centre of Mississauga":MAILTO:secretary@pccmississauga.ca
END:VEVENT
BEGIN:VEVENT
DTSTART;TZID=America/Toronto:20231119T120000
DTEND;TZID=America/Toronto:20231119T170000
DTSTAMP:20260424T115038
CREATED:20231107T144702Z
LAST-MODIFIED:20231107T144702Z
UID:2525-1700395200-1700413200@pccmississauga.ca
SUMMARY:Porto de Honra
DESCRIPTION:
URL:https://pccmississauga.ca/event/porto-de-honra-2/
LOCATION:PCCM Main Hall\, 53 Queen Street North\, Mississauga\, Ontario\, L5N 1A2\, Canada
ORGANIZER;CN="Portuguese Cultural Centre of Mississauga":MAILTO:secretary@pccmississauga.ca
END:VEVENT
BEGIN:VEVENT
DTSTART;TZID=America/Toronto:20231118T190000
DTEND;TZID=America/Toronto:20231118T233000
DTSTAMP:20260424T115038
CREATED:20231107T143650Z
LAST-MODIFIED:20231107T143650Z
UID:2523-1700334000-1700350200@pccmississauga.ca
SUMMARY:Baile do Socio
DESCRIPTION:Baile do Socio with the band Mexe-Mexe.
URL:https://pccmississauga.ca/event/baile-do-socio/
LOCATION:PCCM Main Hall\, 53 Queen Street North\, Mississauga\, Ontario\, L5N 1A2\, Canada
ORGANIZER;CN="Portuguese Cultural Centre of Mississauga":MAILTO:secretary@pccmississauga.ca
END:VEVENT
BEGIN:VEVENT
DTSTART;TZID=America/Toronto:20231111T190000
DTEND;TZID=America/Toronto:20231111T233000
DTSTAMP:20260424T115038
CREATED:20231107T143504Z
LAST-MODIFIED:20231107T143504Z
UID:2521-1699729200-1699745400@pccmississauga.ca
SUMMARY:Baile do São Martinho
DESCRIPTION:Celebrate Sao Martinho at the PCCM. Entertainment by Unique Touch.
URL:https://pccmississauga.ca/event/baile-do-sao-martinho/
LOCATION:PCCM Main Hall\, 53 Queen Street North\, Mississauga\, Ontario\, L5N 1A2\, Canada
ORGANIZER;CN="Portuguese Cultural Centre of Mississauga":MAILTO:secretary@pccmississauga.ca
END:VEVENT
BEGIN:VEVENT
DTSTART;TZID=America/Toronto:20231104T190000
DTEND;TZID=America/Toronto:20231104T233000
DTSTAMP:20260424T115038
CREATED:20231019T211156Z
LAST-MODIFIED:20231019T211224Z
UID:2515-1699124400-1699140600@pccmississauga.ca
SUMMARY:Community Spirit Awards
DESCRIPTION:This year we celebrate our own during the Community Spirit Awards. We honour our past and present. Tony De Sousa and Angie Camara are these years recipients. Come and celebrate this night with us. Entertainment by Bruna from Portugal and Karma Banda.
URL:https://pccmississauga.ca/event/community-spirit-awards/
LOCATION:PCCM Main Hall\, 53 Queen Street North\, Mississauga\, Ontario\, L5N 1A2\, Canada
ORGANIZER;CN="Portuguese Cultural Centre of Mississauga":MAILTO:secretary@pccmississauga.ca
END:VEVENT
BEGIN:VEVENT
DTSTART;TZID=America/Toronto:20231028T190000
DTEND;TZID=America/Toronto:20231028T233000
DTSTAMP:20260424T115038
CREATED:20230922T131515Z
LAST-MODIFIED:20230922T131515Z
UID:2506-1698519600-1698535800@pccmississauga.ca
SUMMARY:Halloween Party
DESCRIPTION:Come dressed in your Halloween attire and have a great time with us. Entertainment by Tabu!
URL:https://pccmississauga.ca/event/halloween-party/
LOCATION:PCCM Main Hall\, 53 Queen Street North\, Mississauga\, Ontario\, L5N 1A2\, Canada
ORGANIZER;CN="Portuguese Cultural Centre of Mississauga":MAILTO:secretary@pccmississauga.ca
END:VEVENT
BEGIN:VEVENT
DTSTART;TZID=America/Toronto:20231021T190000
DTEND;TZID=America/Toronto:20231021T233000
DTSTAMP:20260424T115038
CREATED:20230922T130320Z
LAST-MODIFIED:20230922T130320Z
UID:2504-1697914800-1697931000@pccmississauga.ca
SUMMARY:Aniversario do Rancho
DESCRIPTION:
URL:https://pccmississauga.ca/event/aniversario-do-rancho/
LOCATION:PCCM Main Hall\, 53 Queen Street North\, Mississauga\, Ontario\, L5N 1A2\, Canada
ORGANIZER;CN="Portuguese Cultural Centre of Mississauga":MAILTO:secretary@pccmississauga.ca
END:VEVENT
END:VCALENDAR