BEGIN:VCALENDAR
VERSION:2.0
PRODID:-//Portuguese Cultural Centre of Mississauga - ECPv6.15.20//NONSGML v1.0//EN
CALSCALE:GREGORIAN
METHOD:PUBLISH
X-WR-CALNAME:Portuguese Cultural Centre of Mississauga
X-ORIGINAL-URL:https://pccmississauga.ca
X-WR-CALDESC:Events for Portuguese Cultural Centre of Mississauga
REFRESH-INTERVAL;VALUE=DURATION:PT1H
X-Robots-Tag:noindex
X-PUBLISHED-TTL:PT1H
BEGIN:VTIMEZONE
TZID:America/Toronto
BEGIN:DAYLIGHT
TZOFFSETFROM:-0500
TZOFFSETTO:-0400
TZNAME:EDT
DTSTART:20230312T070000
END:DAYLIGHT
BEGIN:STANDARD
TZOFFSETFROM:-0400
TZOFFSETTO:-0500
TZNAME:EST
DTSTART:20231105T060000
END:STANDARD
BEGIN:DAYLIGHT
TZOFFSETFROM:-0500
TZOFFSETTO:-0400
TZNAME:EDT
DTSTART:20240310T070000
END:DAYLIGHT
BEGIN:STANDARD
TZOFFSETFROM:-0400
TZOFFSETTO:-0500
TZNAME:EST
DTSTART:20241103T060000
END:STANDARD
BEGIN:DAYLIGHT
TZOFFSETFROM:-0500
TZOFFSETTO:-0400
TZNAME:EDT
DTSTART:20250309T070000
END:DAYLIGHT
BEGIN:STANDARD
TZOFFSETFROM:-0400
TZOFFSETTO:-0500
TZNAME:EST
DTSTART:20251102T060000
END:STANDARD
BEGIN:DAYLIGHT
TZOFFSETFROM:-0500
TZOFFSETTO:-0400
TZNAME:EDT
DTSTART:20260308T070000
END:DAYLIGHT
BEGIN:STANDARD
TZOFFSETFROM:-0400
TZOFFSETTO:-0500
TZNAME:EST
DTSTART:20261101T060000
END:STANDARD
END:VTIMEZONE
BEGIN:VEVENT
DTSTART;TZID=America/Toronto:20250418T170000
DTEND;TZID=America/Toronto:20250418T210000
DTSTAMP:20260424T032937
CREATED:20250220T164619Z
LAST-MODIFIED:20250306T013223Z
UID:2987-1744995600-1745010000@pccmississauga.ca
SUMMARY:🌿✨ Sexta-Feira Santa ✨🌿
DESCRIPTION:Join us at PCCM for a special gathering on Sexta-Feira Santa (Good Friday). This evening is a time for reflection\, tradition\, and community as we come together to share a meal and meaningful moments. \n🍽️ What to Expect:🌿 Delicious Meal🤝 Community & Togetherness – A warm and welcoming atmosphere.✨ A Time to Reflect and Appreciate the Moment \nCome enjoy an evening of tradition and connection with family and friends. Everyone is welcome! \n📢 For more info\, contact 905.286.1311
URL:https://pccmississauga.ca/event/%f0%9f%8c%bf%e2%9c%a8-sexta-feira-santa-%e2%9c%a8%f0%9f%8c%bf/
LOCATION:PCCM Main Hall\, 53 Queen Street North\, Mississauga\, Ontario\, L5N 1A2\, Canada
ORGANIZER;CN="Portuguese Cultural Centre of Mississauga":MAILTO:secretary@pccmississauga.ca
END:VEVENT
BEGIN:VEVENT
DTSTART;TZID=America/Toronto:20250412T180000
DTEND;TZID=America/Toronto:20250412T233000
DTSTAMP:20260424T032937
CREATED:20250220T161720Z
LAST-MODIFIED:20250407T184022Z
UID:2973-1744480800-1744500600@pccmississauga.ca
SUMMARY:RENTAL - Roots of Lourinha
DESCRIPTION:
URL:https://pccmississauga.ca/event/rental-4/
LOCATION:PCCM Main Hall\, 53 Queen Street North\, Mississauga\, Ontario\, L5N 1A2\, Canada
END:VEVENT
BEGIN:VEVENT
DTSTART;TZID=America/Toronto:20250405T183000
DTEND;TZID=America/Toronto:20250405T233000
DTSTAMP:20260424T032937
CREATED:20250220T164147Z
LAST-MODIFIED:20250220T164147Z
UID:2984-1743877800-1743895800@pccmississauga.ca
SUMMARY:🎭✨ Masquerade Ball with Mexe-Mexe – A Night of Mystery & Music! 🎶🎭
DESCRIPTION:Step into a night of elegance\, mystery\, and excitement at the PCCM Youth Group’s Masquerade Ball! Put on your finest attire\, don your most dazzling mask\, and get ready to dance the night away with the incredible Mexe-Mexe! \n✨ What to Expect:🎶 Live Music by Mexe-Mexe – Get ready for a night of non-stop dancing!🎭 Masquerade Theme – Dress to impress and embrace the mystery!🍹 Delicious Foods & Great Atmosphere🎊 A Night of Fun\, Friends & Festivity! \nDon’t miss this one-of-a-kind event—where music\, glamour\, and mystery come together for an unforgettable evening! \n📢 For tickets & more info\, contact 905.286.1311
URL:https://pccmississauga.ca/event/%f0%9f%8e%ad%e2%9c%a8-masquerade-ball-with-mexe-mexe-a-night-of-mystery-music-%f0%9f%8e%b6%f0%9f%8e%ad/
LOCATION:PCCM Main Hall\, 53 Queen Street North\, Mississauga\, Ontario\, L5N 1A2\, Canada
ORGANIZER;CN="Portuguese Cultural Centre of Mississauga":MAILTO:secretary@pccmississauga.ca
END:VEVENT
BEGIN:VEVENT
DTSTART;TZID=America/Toronto:20250329T183000
DTEND;TZID=America/Toronto:20250329T233000
DTSTAMP:20260424T032937
CREATED:20250219T163631Z
LAST-MODIFIED:20250219T163631Z
UID:2962-1743273000-1743291000@pccmississauga.ca
SUMMARY:🥂🎶 Festival do Leitão with KARMA – A Night of Great Food & Music! 🎉
DESCRIPTION:Get ready for a delicious and lively night at the Festival do Leitão\, featuring the amazing Karma Band! Join us for an evening of mouthwatering food\, great company\, and high-energy entertainment. \nDon’t miss out on this unforgettable night of delicious flavors\, amazing music\, and pure fun! Gather your family and friends and come celebrate with us. \n📢 For tickets & more info\, contact 905.286.1311
URL:https://pccmississauga.ca/event/%f0%9f%a5%82%f0%9f%8e%b6-festival-do-leitao-with-karma-a-night-of-great-food-music-%f0%9f%8e%89/
LOCATION:PCCM Main Hall\, 53 Queen Street North\, Mississauga\, Ontario\, L5N 1A2\, Canada
ORGANIZER;CN="Portuguese Cultural Centre of Mississauga":MAILTO:secretary@pccmississauga.ca
END:VEVENT
BEGIN:VEVENT
DTSTART;TZID=America/Toronto:20250322T183000
DTEND;TZID=America/Toronto:20250322T233000
DTSTAMP:20260424T032937
CREATED:20250219T161452Z
LAST-MODIFIED:20250220T163825Z
UID:2960-1742668200-1742686200@pccmississauga.ca
SUMMARY:RENTAL - Concelho da Povoação
DESCRIPTION:
URL:https://pccmississauga.ca/event/rental-3/
LOCATION:PCCM Main Hall\, 53 Queen Street North\, Mississauga\, Ontario\, L5N 1A2\, Canada
END:VEVENT
BEGIN:VEVENT
DTSTART;TZID=America/Toronto:20250315T183000
DTEND;TZID=America/Toronto:20250315T233000
DTSTAMP:20260424T032937
CREATED:20250219T161423Z
LAST-MODIFIED:20250220T163757Z
UID:2958-1742063400-1742081400@pccmississauga.ca
SUMMARY:RENTAL - Kanal 3
DESCRIPTION:
URL:https://pccmississauga.ca/event/rental-2/
LOCATION:PCCM Main Hall\, 53 Queen Street North\, Mississauga\, Ontario\, L5N 1A2\, Canada
END:VEVENT
BEGIN:VEVENT
DTSTART;TZID=America/Toronto:20250308T183000
DTEND;TZID=America/Toronto:20250308T233000
DTSTAMP:20260424T032937
CREATED:20250219T161328Z
LAST-MODIFIED:20250219T161328Z
UID:2954-1741458600-1741476600@pccmississauga.ca
SUMMARY:🎉 Baile do Sócio with TABU – A Night of Music\, Dance & Celebration! 🎶
DESCRIPTION:Join us for a spectacular evening at the Baile do Sócio\, featuring the amazing Banda TABU! Get ready for a night filled with great music\, delicious food\, and an unforgettable atmosphere—all at an incredible price! \n✨ What’s Included:🍽️ Delicious Dinner – Enjoy a fantastic meal with great company!🎶 Live Entertainment by TABU – Dance the night away to incredible music!💃 Great Atmosphere & Fun for All! \nThis is a night you don’t want to miss! Gather your family and friends and come celebrate with us. \n📢 For tickets & more info\, contact 905.286.1311
URL:https://pccmississauga.ca/event/%f0%9f%8e%89-baile-do-socio-with-tabu-a-night-of-music-dance-celebration-%f0%9f%8e%b6/
LOCATION:PCCM Main Hall\, 53 Queen Street North\, Mississauga\, Ontario\, L5N 1A2\, Canada
ORGANIZER;CN="Portuguese Cultural Centre of Mississauga":MAILTO:secretary@pccmississauga.ca
END:VEVENT
BEGIN:VEVENT
DTSTART;TZID=America/Toronto:20250302T120000
DTEND;TZID=America/Toronto:20250302T210000
DTSTAMP:20260424T032937
CREATED:20250210T163015Z
LAST-MODIFIED:20250220T164952Z
UID:2948-1740916800-1740949200@pccmississauga.ca
SUMMARY:🎭 Danças do Carnaval! 🎭
DESCRIPTION:Experience the magic of Terceira Island’s Carnival traditions right here at the PCCM! Join us for an unforgettable night of Danças de Carnaval\, a beloved Azorean tradition filled with theatrical performances\, humor\, music\, and vibrant storytelling.
URL:https://pccmississauga.ca/event/dancas-do-carnaval-3/
LOCATION:PCCM Main Hall\, 53 Queen Street North\, Mississauga\, Ontario\, L5N 1A2\, Canada
ORGANIZER;CN="Portuguese Cultural Centre of Mississauga":MAILTO:secretary@pccmississauga.ca
END:VEVENT
BEGIN:VEVENT
DTSTART;TZID=America/Toronto:20250228T190000
DTEND;TZID=America/Toronto:20250228T233000
DTSTAMP:20260424T032937
CREATED:20250120T211335Z
LAST-MODIFIED:20250224T175643Z
UID:2941-1740769200-1740785400@pccmississauga.ca
SUMMARY:RENTAL - The Portuguese Kids & Mike Rita
DESCRIPTION:This event is not being sold by the PCCM. Tickets can be purchased through The Portuguese Kids website on the link below. \nhttps://www.eventbrite.ca/e/mississauga-on-improvisitas-with-mike-rita-tickets-1154735247209?aff=efbevent
URL:https://pccmississauga.ca/event/the-portuguese-kids-mike-rita/
LOCATION:PCCM Main Hall\, 53 Queen Street North\, Mississauga\, Ontario\, L5N 1A2\, Canada
END:VEVENT
BEGIN:VEVENT
DTSTART;TZID=America/Toronto:20250222T183000
DTEND;TZID=America/Toronto:20250222T233000
DTSTAMP:20260424T032937
CREATED:20250120T210937Z
LAST-MODIFIED:20250120T210937Z
UID:2938-1740249000-1740267000@pccmississauga.ca
SUMMARY:Baile da Fundação
DESCRIPTION:Join as at the Baile da Fundação. Entertainment by Duo Som Luso.
URL:https://pccmississauga.ca/event/baile-da-fundacao/
LOCATION:PCCM Main Hall\, 53 Queen Street North\, Mississauga\, Ontario\, L5N 1A2\, Canada
ORGANIZER;CN="Portuguese Cultural Centre of Mississauga":MAILTO:secretary@pccmississauga.ca
END:VEVENT
BEGIN:VEVENT
DTSTART;TZID=America/Toronto:20250215T183000
DTEND;TZID=America/Toronto:20250215T233000
DTSTAMP:20260424T032937
CREATED:20250117T140647Z
LAST-MODIFIED:20250117T140647Z
UID:2896-1739644200-1739662200@pccmississauga.ca
SUMMARY:RENTAL
DESCRIPTION:
URL:https://pccmississauga.ca/event/rental/
LOCATION:PCCM Main Hall\, 53 Queen Street North\, Mississauga\, Ontario\, L5N 1A2\, Canada
END:VEVENT
BEGIN:VEVENT
DTSTART;TZID=America/Toronto:20250208T183000
DTEND;TZID=America/Toronto:20250208T233000
DTSTAMP:20260424T032937
CREATED:20250117T135552Z
LAST-MODIFIED:20250117T135552Z
UID:2890-1739039400-1739057400@pccmississauga.ca
SUMMARY:Valentine's Party
DESCRIPTION:First event of the year! Valentine’s party with José Alberto Reis from Portugal and Unique Touch. Contact us for more information.
URL:https://pccmississauga.ca/event/valentines-party/
LOCATION:PCCM Main Hall\, 53 Queen Street North\, Mississauga\, Ontario\, L5N 1A2\, Canada
ORGANIZER;CN="Portuguese Cultural Centre of Mississauga":MAILTO:secretary@pccmississauga.ca
END:VEVENT
BEGIN:VEVENT
DTSTART;TZID=America/Toronto:20241231T183000
DTEND;TZID=America/Toronto:20250101T020000
DTSTAMP:20260424T032937
CREATED:20241115T151158Z
LAST-MODIFIED:20241128T153144Z
UID:2766-1735669800-1735696800@pccmississauga.ca
SUMMARY:New Year's Gala - SOLD OUT
DESCRIPTION:🎉 New Year’s Party SOLD OUT! 🎉 \nThank you all for your amazing support – tickets for our New Year’s Eve celebration are officially SOLD OUT! 🥂✨ \n⚠️ Important Reminder:\nAll purchased tickets must be paid for and picked up by December 15 to confirm your spot. \n🚨 Missed out?\nDon’t worry! If you’d like to be added to the waiting list\, please contact us directly. \nWe can’t wait to ring in the New Year with you! 🎆🎶 Let’s make it a night to remember! 🎊
URL:https://pccmississauga.ca/event/new-years/
LOCATION:PCCM Main Hall\, 53 Queen Street North\, Mississauga\, Ontario\, L5N 1A2\, Canada
ORGANIZER;CN="Portuguese Cultural Centre of Mississauga":MAILTO:secretary@pccmississauga.ca
END:VEVENT
BEGIN:VEVENT
DTSTART;TZID=America/Toronto:20241220T120000
DTEND;TZID=America/Toronto:20241220T203000
DTSTAMP:20260424T032937
CREATED:20241125T195415Z
LAST-MODIFIED:20241125T195415Z
UID:2782-1734696000-1734726600@pccmississauga.ca
SUMMARY:PRIVATE
DESCRIPTION:
URL:https://pccmississauga.ca/event/private-4/
LOCATION:PCCM Main Hall\, 53 Queen Street North\, Mississauga\, Ontario\, L5N 1A2\, Canada
END:VEVENT
BEGIN:VEVENT
DTSTART;TZID=America/Toronto:20241214T183000
DTEND;TZID=America/Toronto:20241214T233000
DTSTAMP:20260424T032937
CREATED:20241115T151036Z
LAST-MODIFIED:20241115T151036Z
UID:2762-1734201000-1734219000@pccmississauga.ca
SUMMARY:Christmas Party
DESCRIPTION:Join us for our Christmas party. Dinner and entertainment by Unique Touch. Contact us for information and reservations.
URL:https://pccmississauga.ca/event/christmas-party-3/
LOCATION:PCCM Main Hall\, 53 Queen Street North\, Mississauga\, Ontario\, L5N 1A2\, Canada
ORGANIZER;CN="Portuguese Cultural Centre of Mississauga":MAILTO:secretary@pccmississauga.ca
END:VEVENT
BEGIN:VEVENT
DTSTART;TZID=America/Toronto:20241208T110000
DTEND;TZID=America/Toronto:20241208T170000
DTSTAMP:20260424T032937
CREATED:20241115T150909Z
LAST-MODIFIED:20241115T150909Z
UID:2758-1733655600-1733677200@pccmississauga.ca
SUMMARY:Breakfast with Santa
DESCRIPTION:Join us for Breakfast with Santa. Event organized by our Youth Group. Contact us for reservations.
URL:https://pccmississauga.ca/event/breakfast-with-santa-2/
LOCATION:PCCM Main Hall\, 53 Queen Street North\, Mississauga\, Ontario\, L5N 1A2\, Canada
ORGANIZER;CN="Portuguese Cultural Centre of Mississauga":MAILTO:secretary@pccmississauga.ca
END:VEVENT
BEGIN:VEVENT
DTSTART;TZID=America/Toronto:20241207T183000
DTEND;TZID=America/Toronto:20241207T233000
DTSTAMP:20260424T032937
CREATED:20241125T195240Z
LAST-MODIFIED:20241125T195240Z
UID:2778-1733596200-1733614200@pccmississauga.ca
SUMMARY:PRIVATE
DESCRIPTION:
URL:https://pccmississauga.ca/event/private-2/
LOCATION:PCCM Main Hall\, 53 Queen Street North\, Mississauga\, Ontario\, L5N 1A2\, Canada
END:VEVENT
BEGIN:VEVENT
DTSTART;TZID=America/Toronto:20241204T120000
DTEND;TZID=America/Toronto:20241204T170000
DTSTAMP:20260424T032937
CREATED:20241125T195153Z
LAST-MODIFIED:20241127T005112Z
UID:2776-1733313600-1733331600@pccmississauga.ca
SUMMARY:PRIVATE
DESCRIPTION:
URL:https://pccmississauga.ca/event/private/
LOCATION:PCCM Main Hall\, 53 Queen Street North\, Mississauga\, Ontario\, L5N 1A2\, Canada
END:VEVENT
BEGIN:VEVENT
DTSTART;TZID=America/Toronto:20241201T110000
DTEND;TZID=America/Toronto:20241201T170000
DTSTAMP:20260424T032937
CREATED:20241125T195542Z
LAST-MODIFIED:20241125T195542Z
UID:2784-1733050800-1733072400@pccmississauga.ca
SUMMARY:Eden Food for Change
DESCRIPTION:
URL:https://pccmississauga.ca/event/eden-food-for-change/
LOCATION:PCCM Main Hall\, 53 Queen Street North\, Mississauga\, Ontario\, L5N 1A2\, Canada
END:VEVENT
BEGIN:VEVENT
DTSTART;TZID=America/Toronto:20241130T183000
DTEND;TZID=America/Toronto:20241130T233000
DTSTAMP:20260424T032937
CREATED:20241125T195104Z
LAST-MODIFIED:20241125T195104Z
UID:2774-1732991400-1733009400@pccmississauga.ca
SUMMARY:Banda do Senhor Santo Cristo - Christmas Special
DESCRIPTION:
URL:https://pccmississauga.ca/event/banda-do-senhor-santo-cristo-christmas-special/
LOCATION:PCCM Main Hall\, 53 Queen Street North\, Mississauga\, Ontario\, L5N 1A2\, Canada
END:VEVENT
BEGIN:VEVENT
DTSTART;TZID=America/Toronto:20241123T183000
DTEND;TZID=America/Toronto:20241123T233000
DTSTAMP:20260424T032937
CREATED:20241007T134803Z
LAST-MODIFIED:20241007T134912Z
UID:2738-1732386600-1732404600@pccmississauga.ca
SUMMARY:50th Anniversary Gala
DESCRIPTION:Join us for our 50th Anniversary Celebration at the Portuguese Cultural Centre of Mississauga! 🎉 \nGet ready for a night of unforgettable fun\, music\, and celebration. We’re excited to announce that the legendary Rui Bandeira and his band will be performing live! \nDate: Saturday\, November 23rd\nTime: 6:30 pm\nLocation: Portuguese Cultural Centre of Mississauga\nDress code: Formal attire \nDon’t miss out! Mark your calendars and call us today for reservations.
URL:https://pccmississauga.ca/event/50th-anniversary-gala/
LOCATION:PCCM Main Hall\, 53 Queen Street North\, Mississauga\, Ontario\, L5N 1A2\, Canada
ORGANIZER;CN="Portuguese Cultural Centre of Mississauga":MAILTO:secretary@pccmississauga.ca
END:VEVENT
BEGIN:VEVENT
DTSTART;TZID=America/Toronto:20241117T110000
DTEND;TZID=America/Toronto:20241117T170000
DTSTAMP:20260424T032937
CREATED:20241111T173511Z
LAST-MODIFIED:20241111T173539Z
UID:2752-1731841200-1731862800@pccmississauga.ca
SUMMARY:Porto de Horna
DESCRIPTION: Join us for a special Porto de Honra event on Sunday\, November 17th! This gathering will be extra special as we recognize the generous support of the Ontario Trillium Foundation.\nMembers are invited to enjoy a complimentary lunch\, while non-members can join for a small fee. To ensure we’re prepared to welcome everyone\, we strongly recommend making a reservation in advance.\nEvent begins at 11 a.m.\n—\n Junte-se a nós para um Porto de Honra especial no domingo\, dia 17 de novembro! Este evento será ainda mais especial com o reconhecimento do generoso apoio da Fundação Trillium de Ontário.\nOs sócios estão convidados para o evento com um almoço gratuito\, enquanto os não-sócios podem participar mas têm de pagar o almoço. Para garantir que estamos preparados para receber todos\, recomendamos vivamente que façam reserva com antecedência.
URL:https://pccmississauga.ca/event/porto-de-horna/
LOCATION:PCCM Main Hall\, 53 Queen Street North\, Mississauga\, Ontario\, L5N 1A2\, Canada
ORGANIZER;CN="Portuguese Cultural Centre of Mississauga":MAILTO:secretary@pccmississauga.ca
END:VEVENT
BEGIN:VEVENT
DTSTART;TZID=America/Toronto:20241116T183000
DTEND;TZID=America/Toronto:20241116T233000
DTSTAMP:20260424T032937
CREATED:20241016T131924Z
LAST-MODIFIED:20241016T131924Z
UID:2745-1731781800-1731799800@pccmississauga.ca
SUMMARY:Baile do Sócio
DESCRIPTION:🎉✨ Get ready for an unforgettable night at Baile do Sócio! 🎶 Join us on Saturday\, November 16th\, for a fabulous evening filled with amazing music and vibrant energy! \n🎤✨ Featuring live entertainment by the talented Pedro Joel and the dynamic Duo Som Luso! \n📅 Mark your calendars and don’t miss out on the fun! For more information and reservations\, contact us today! Let’s dance the night away! 💃🕺
URL:https://pccmississauga.ca/event/baile-do-socio-2/
LOCATION:PCCM Main Hall\, 53 Queen Street North\, Mississauga\, Ontario\, L5N 1A2\, Canada
ORGANIZER;CN="Portuguese Cultural Centre of Mississauga":MAILTO:secretary@pccmississauga.ca
END:VEVENT
BEGIN:VEVENT
DTSTART;TZID=America/Toronto:20241102T183000
DTEND;TZID=America/Toronto:20241102T233000
DTSTAMP:20260424T032937
CREATED:20240919T234257Z
LAST-MODIFIED:20240919T234257Z
UID:2726-1730572200-1730590200@pccmississauga.ca
SUMMARY:Festa do São Martinho
DESCRIPTION:Celebrate São Martinho at the PCCM on November 2nd. For the first time at PCCM the due Eddie Sousa and Tony Mikael from Montreal\, and from our community\, the talented Cesar Russo. Contact us for more information and reservations.
URL:https://pccmississauga.ca/event/festa-do-sao-martinho/
LOCATION:PCCM Main Hall\, 53 Queen Street North\, Mississauga\, Ontario\, L5N 1A2\, Canada
ORGANIZER;CN="Portuguese Cultural Centre of Mississauga":MAILTO:secretary@pccmississauga.ca
END:VEVENT
BEGIN:VEVENT
DTSTART;TZID=America/Toronto:20241026T183000
DTEND;TZID=America/Toronto:20241026T233000
DTSTAMP:20260424T032937
CREATED:20240919T225944Z
LAST-MODIFIED:20240919T225944Z
UID:2722-1729967400-1729985400@pccmississauga.ca
SUMMARY:Halloween
DESCRIPTION:Celebrate Halloween at the PCCM. Dress up in your crazy\, fun and scary costumes and dance to the music of Karma Banda. This will be a fun night. Contact us for information and reservations!
URL:https://pccmississauga.ca/event/halloween/
LOCATION:PCCM Main Hall\, 53 Queen Street North\, Mississauga\, Ontario\, L5N 1A2\, Canada
ORGANIZER;CN="Portuguese Cultural Centre of Mississauga":MAILTO:secretary@pccmississauga.ca
END:VEVENT
BEGIN:VEVENT
DTSTART;TZID=America/Toronto:20241019T183000
DTEND;TZID=America/Toronto:20241019T233000
DTSTAMP:20260424T032937
CREATED:20240911T141857Z
LAST-MODIFIED:20240911T141857Z
UID:2684-1729362600-1729380600@pccmississauga.ca
SUMMARY:37th Anniversary of the PCCM Folklore Group
DESCRIPTION:Celebrate our Folklore Group 37th anniversary. We are happy to announce that Rancho Estrelas do North from Winnipeg will be attending. Daniel Tiago Almeida will be the entertainment for the night.
URL:https://pccmississauga.ca/event/37th-anniversary-of-the-pccm-folklore-group/
LOCATION:PCCM Main Hall\, 53 Queen Street North\, Mississauga\, Ontario\, L5N 1A2\, Canada
ORGANIZER;CN="Portuguese Cultural Centre of Mississauga":MAILTO:secretary@pccmississauga.ca
END:VEVENT
BEGIN:VEVENT
DTSTART;TZID=America/Toronto:20241005T183000
DTEND;TZID=America/Toronto:20241005T233000
DTSTAMP:20260424T032937
CREATED:20240906T140445Z
LAST-MODIFIED:20240906T140445Z
UID:2680-1728153000-1728171000@pccmississauga.ca
SUMMARY:Fado Gala
DESCRIPTION:Fado Gala 2024
URL:https://pccmississauga.ca/event/fado-gala/
LOCATION:PCCM Main Hall\, 53 Queen Street North\, Mississauga\, Ontario\, L5N 1A2\, Canada
ORGANIZER;CN="Portuguese Cultural Centre of Mississauga":MAILTO:secretary@pccmississauga.ca
END:VEVENT
BEGIN:VEVENT
DTSTART;TZID=America/Toronto:20240619T120000
DTEND;TZID=America/Toronto:20240619T210000
DTSTAMP:20260424T032937
CREATED:20240416T134110Z
LAST-MODIFIED:20240416T134439Z
UID:2626-1718798400-1718830800@pccmississauga.ca
SUMMARY:PCCM Annual Golf Tournament
DESCRIPTION:PCCM Annual Golf Tournament and Dinner!
URL:https://pccmississauga.ca/event/pccm-annual-golf-tournament-2/
LOCATION:PCCM Main Hall\, 53 Queen Street North\, Mississauga\, Ontario\, L5N 1A2\, Canada
ORGANIZER;CN="Portuguese Cultural Centre of Mississauga":MAILTO:secretary@pccmississauga.ca
END:VEVENT
BEGIN:VEVENT
DTSTART;TZID=America/Toronto:20240616T110000
DTEND;TZID=America/Toronto:20240616T180000
DTSTAMP:20260424T032937
CREATED:20240509T214452Z
LAST-MODIFIED:20240509T214452Z
UID:2673-1718535600-1718560800@pccmississauga.ca
SUMMARY:Festival Cultural
DESCRIPTION:
URL:https://pccmississauga.ca/event/festival-cultural/
LOCATION:PCCM Main Hall\, 53 Queen Street North\, Mississauga\, Ontario\, L5N 1A2\, Canada
ORGANIZER;CN="Portuguese Cultural Centre of Mississauga":MAILTO:secretary@pccmississauga.ca
END:VEVENT
BEGIN:VEVENT
DTSTART;TZID=America/Toronto:20240601T183000
DTEND;TZID=America/Toronto:20240601T233000
DTSTAMP:20260424T032937
CREATED:20240411T144817Z
LAST-MODIFIED:20240411T144817Z
UID:2624-1717266600-1717284600@pccmississauga.ca
SUMMARY:Private Event
DESCRIPTION:Private Event
URL:https://pccmississauga.ca/event/private-event-5/
LOCATION:PCCM Main Hall\, 53 Queen Street North\, Mississauga\, Ontario\, L5N 1A2\, Canada
END:VEVENT
END:VCALENDAR