BEGIN:VCALENDAR
VERSION:2.0
PRODID:-//Portuguese Cultural Centre of Mississauga - ECPv6.15.20//NONSGML v1.0//EN
CALSCALE:GREGORIAN
METHOD:PUBLISH
X-WR-CALNAME:Portuguese Cultural Centre of Mississauga
X-ORIGINAL-URL:https://pccmississauga.ca
X-WR-CALDESC:Events for Portuguese Cultural Centre of Mississauga
REFRESH-INTERVAL;VALUE=DURATION:PT1H
X-Robots-Tag:noindex
X-PUBLISHED-TTL:PT1H
BEGIN:VTIMEZONE
TZID:America/Toronto
BEGIN:DAYLIGHT
TZOFFSETFROM:-0500
TZOFFSETTO:-0400
TZNAME:EDT
DTSTART:20240310T070000
END:DAYLIGHT
BEGIN:STANDARD
TZOFFSETFROM:-0400
TZOFFSETTO:-0500
TZNAME:EST
DTSTART:20241103T060000
END:STANDARD
BEGIN:DAYLIGHT
TZOFFSETFROM:-0500
TZOFFSETTO:-0400
TZNAME:EDT
DTSTART:20250309T070000
END:DAYLIGHT
BEGIN:STANDARD
TZOFFSETFROM:-0400
TZOFFSETTO:-0500
TZNAME:EST
DTSTART:20251102T060000
END:STANDARD
BEGIN:DAYLIGHT
TZOFFSETFROM:-0500
TZOFFSETTO:-0400
TZNAME:EDT
DTSTART:20260308T070000
END:DAYLIGHT
BEGIN:STANDARD
TZOFFSETFROM:-0400
TZOFFSETTO:-0500
TZNAME:EST
DTSTART:20261101T060000
END:STANDARD
END:VTIMEZONE
BEGIN:VEVENT
DTSTART;TZID=America/Toronto:20251101T180000
DTEND;TZID=America/Toronto:20251101T233000
DTSTAMP:20260423T145237
CREATED:20250908T161634Z
LAST-MODIFIED:20250908T161634Z
UID:3123-1762020000-1762039800@pccmississauga.ca
SUMMARY:Cantorias
DESCRIPTION:Join us on Saturday\, November 1st at the Portuguese Cultural Centre of Mississauga for an unforgettable night of wit\, laughter\, and music. We’re bringing together some of the finest Cantadores from Portugal and Canada for an evening filled with Azorean tradition and spirit.\n\nFrom Portugal\, we welcome Roberto Toledo from Terceira\, Bruno Botelho from São Miguel\, Fábio Ourique from Terceira\, and Hélder Pereira from Terceira. Representing Canada will be Hildeberto Santos and Marco Fernandes\, bringing their own talent and humour to the stage.\n\nThe night will be accompanied by the beautiful sounds of the guitar\, played by Chris Freitas and Henrique Braga\, creating the perfect backdrop for this lively and traditional art form.\n\nDon’t miss this special celebration of Portuguese culture — a night that promises entertainment\, laughter\, and community spirit.  For tickets and information\, contact the PCCM.
URL:https://pccmississauga.ca/event/cantorias-2/
LOCATION:PCCM Main Hall\, 53 Queen Street North\, Mississauga\, Ontario\, L5N 1A2\, Canada
ORGANIZER;CN="Portuguese Cultural Centre of Mississauga":MAILTO:secretary@pccmississauga.ca
END:VEVENT
BEGIN:VEVENT
DTSTART;TZID=America/Toronto:20251025T183000
DTEND;TZID=America/Toronto:20251025T233000
DTSTAMP:20260423T145237
CREATED:20250908T150354Z
LAST-MODIFIED:20250908T150354Z
UID:3118-1761417000-1761435000@pccmississauga.ca
SUMMARY:Halloween Party
DESCRIPTION:🎃👻 PCCM Halloween Party with Karma Band 👻🎃 \nGet ready for a spooky night of music\, dancing\, and fun at the Portuguese Cultural Centre of Mississauga! 🕷️🕸️ \nThis year’s Halloween Party will feature the amazing Karma Band live on stage — bringing the energy and the music to keep you dancing all night long. 🎶💃🕺 \nGather your friends\, put on your spooky best\, and join us for a night full of thrills\, laughs\, and unforgettable memories. 🧛‍♀️🧟‍♂️
URL:https://pccmississauga.ca/event/halloween-party-2/
LOCATION:PCCM Main Hall\, 53 Queen Street North\, Mississauga\, Ontario\, L5N 1A2\, Canada
ORGANIZER;CN="Portuguese Cultural Centre of Mississauga":MAILTO:secretary@pccmississauga.ca
END:VEVENT
BEGIN:VEVENT
DTSTART;TZID=America/Toronto:20251018T170000
DTEND;TZID=America/Toronto:20251018T233000
DTSTAMP:20260423T145237
CREATED:20250830T130006Z
LAST-MODIFIED:20250924T123418Z
UID:3095-1760806800-1760830200@pccmississauga.ca
SUMMARY:RENTAL - Banda do Sagrado Coracao de Jesus
DESCRIPTION:
URL:https://pccmississauga.ca/event/rental-7/
LOCATION:PCCM Main Hall\, 53 Queen Street North\, Mississauga\, Ontario\, L5N 1A2\, Canada
END:VEVENT
BEGIN:VEVENT
DTSTART;TZID=America/Toronto:20251011T183000
DTEND;TZID=America/Toronto:20251011T233000
DTSTAMP:20260423T145237
CREATED:20250908T145310Z
LAST-MODIFIED:20250908T145310Z
UID:3108-1760207400-1760225400@pccmississauga.ca
SUMMARY:PCCM Folklore Anniversary
DESCRIPTION:🎉 PCCM Folklore Group Anniversary Celebration 🎉 \nJoin us at the Portuguese Cultural Centre of Mississauga as we celebrate the anniversary of our PCCM Folklore Group! 🇵🇹✨ \nThis year’s celebration will be extra special as we welcome\, for the first time at the PCCM as a Duo\, the incredible Carlos & Armando! 🎶 Their performance\, together with our very own talented Folklore Group\, will make for an unforgettable evening filled with music\, tradition\, and community spirit. \nDon’t miss this lively celebration of Portuguese culture\, song\, and dance. Bring your family and friends — everyone is welcome! 💃🕺
URL:https://pccmississauga.ca/event/pccm-folklore-anniversary/
LOCATION:PCCM Main Hall\, 53 Queen Street North\, Mississauga\, Ontario\, L5N 1A2\, Canada
ORGANIZER;CN="Portuguese Cultural Centre of Mississauga":MAILTO:secretary@pccmississauga.ca
END:VEVENT
BEGIN:VEVENT
DTSTART;TZID=America/Toronto:20251005T150000
DTEND;TZID=America/Toronto:20251005T170000
DTSTAMP:20260423T145237
CREATED:20250826T140447Z
LAST-MODIFIED:20250923T180325Z
UID:3080-1759676400-1759683600@pccmississauga.ca
SUMMARY:Annual General Meeting
DESCRIPTION:General Annual Meeting. This meeting is for members only. All member must have their dues paid in order to attend the AGM.
URL:https://pccmississauga.ca/event/annual-general-meeting/
LOCATION:PCCM Main Hall\, 53 Queen Street North\, Mississauga\, Ontario\, L5N 1A2\, Canada
ORGANIZER;CN="Portuguese Cultural Centre of Mississauga":MAILTO:secretary@pccmississauga.ca
END:VEVENT
BEGIN:VEVENT
DTSTART;TZID=America/Toronto:20251004T190000
DTEND;TZID=America/Toronto:20251004T233000
DTSTAMP:20260423T145237
CREATED:20250612T200658Z
LAST-MODIFIED:20250612T200658Z
UID:3065-1759604400-1759620600@pccmississauga.ca
SUMMARY:Gala de Fado - Tribute to Amália Rodrigues
DESCRIPTION:🎤✨ Gala de Fado – Tribute to Amália Rodrigues 🇵🇹🗓 Saturday\, October 4th📍 Portuguese Cultural Centre of Mississauga \nJoin us for a magical evening of Fado\, honoring the unforgettable voice of Amália Rodrigues\, the Queen of Fado. \n🌟 Featuring renowned fadistas from Portugal:🎙 Duarte🎙 Célia Leiria \n🎶 Accompanied by the masterful musicians:🎸 Pedro Amendoeira – Portuguese Guitar🎸 João Filipe – Classical Guitar🎻 Carlos Menezes – Bass \n🎤 Hosted by beloved community icon Henrique Conde \nThis is a night not to be missed — a heartfelt tribute to the soul of Portuguese music. \n📞 For tickets and information\, contact PCCM
URL:https://pccmississauga.ca/event/gala-de-fado-tribute-to-amalia-rodrigues/
LOCATION:PCCM Main Hall\, 53 Queen Street North\, Mississauga\, Ontario\, L5N 1A2\, Canada
ORGANIZER;CN="Portuguese Cultural Centre of Mississauga":MAILTO:secretary@pccmississauga.ca
END:VEVENT
BEGIN:VEVENT
DTSTART;TZID=America/Toronto:20250928T080000
DTEND;TZID=America/Toronto:20250928T170000
DTSTAMP:20260423T145237
CREATED:20250830T125904Z
LAST-MODIFIED:20250909T152123Z
UID:3091-1759046400-1759078800@pccmississauga.ca
SUMMARY:2025 Volta Luso Charities
DESCRIPTION:
URL:https://pccmississauga.ca/event/2025-volta-luso-charities/
LOCATION:PCCM Main Hall\, 53 Queen Street North\, Mississauga\, Ontario\, L5N 1A2\, Canada
END:VEVENT
BEGIN:VEVENT
DTSTART;TZID=America/Toronto:20250927T170000
DTEND;TZID=America/Toronto:20250927T233000
DTSTAMP:20260423T145237
CREATED:20250830T125657Z
LAST-MODIFIED:20250926T151348Z
UID:3086-1758992400-1759015800@pccmississauga.ca
SUMMARY:Mike Rita's Big\, Giant Portuguese Festa
DESCRIPTION:TICKETS MUST BE PURCHASED ON EVENT BRITE on the link below. We don’t have tickets available by phone!\nBUY TICKETS VIA THIS LINK.
URL:https://pccmississauga.ca/event/mike-ritas-big-giant-portuguese-festa/
LOCATION:PCCM Main Hall\, 53 Queen Street North\, Mississauga\, Ontario\, L5N 1A2\, Canada
ORGANIZER;CN="Portuguese Cultural Centre of Mississauga":MAILTO:secretary@pccmississauga.ca
END:VEVENT
BEGIN:VEVENT
DTSTART;TZID=America/Toronto:20250920T180000
DTEND;TZID=America/Toronto:20250920T233000
DTSTAMP:20260423T145237
CREATED:20250830T125006Z
LAST-MODIFIED:20250909T152230Z
UID:3082-1758391200-1758411000@pccmississauga.ca
SUMMARY:Quatro Vozes - Um espetaculo - RENTAL
DESCRIPTION:CONTACT NUMBERS ON THE POSTER FOR TICKETS
URL:https://pccmississauga.ca/event/quatro-vozes-um-espetaculo-rental/
LOCATION:PCCM Main Hall\, 53 Queen Street North\, Mississauga\, Ontario\, L5N 1A2\, Canada
END:VEVENT
BEGIN:VEVENT
DTSTART;TZID=America/Toronto:20250625T110000
DTEND;TZID=America/Toronto:20250625T200000
DTSTAMP:20260423T145237
CREATED:20250430T165232Z
LAST-MODIFIED:20250430T165232Z
UID:3052-1750849200-1750881600@pccmississauga.ca
SUMMARY:PCCM Golf Tournament
DESCRIPTION:
URL:https://pccmississauga.ca/event/pccm-golf-tournament/
LOCATION:PCCM Main Hall\, 53 Queen Street North\, Mississauga\, Ontario\, L5N 1A2\, Canada
ORGANIZER;CN="Portuguese Cultural Centre of Mississauga":MAILTO:secretary@pccmississauga.ca
END:VEVENT
BEGIN:VEVENT
DTSTART;TZID=America/Toronto:20250614T170000
DTEND;TZID=America/Toronto:20250614T233000
DTSTAMP:20260423T145237
CREATED:20250430T164648Z
LAST-MODIFIED:20250607T164350Z
UID:3050-1749920400-1749943800@pccmississauga.ca
SUMMARY:Arraial at PCCM
DESCRIPTION:
URL:https://pccmississauga.ca/event/festival-cultural-2/
LOCATION:PCCM Main Hall\, 53 Queen Street North\, Mississauga\, Ontario\, L5N 1A2\, Canada
ORGANIZER;CN="Portuguese Cultural Centre of Mississauga":MAILTO:secretary@pccmississauga.ca
END:VEVENT
BEGIN:VEVENT
DTSTART;TZID=America/Toronto:20250613T170000
DTEND;TZID=America/Toronto:20250613T223000
DTSTAMP:20260423T145237
CREATED:20250421T140909Z
LAST-MODIFIED:20250421T140909Z
UID:3048-1749834000-1749853800@pccmississauga.ca
SUMMARY:RENTAL - Luso Charities Golf
DESCRIPTION:
URL:https://pccmississauga.ca/event/rental-luso-charities-golf/
LOCATION:PCCM Main Hall\, 53 Queen Street North\, Mississauga\, Ontario\, L5N 1A2\, Canada
END:VEVENT
BEGIN:VEVENT
DTSTART;TZID=America/Toronto:20250607T183000
DTEND;TZID=America/Toronto:20250607T233000
DTSTAMP:20260423T145237
CREATED:20250421T140824Z
LAST-MODIFIED:20250421T140824Z
UID:3046-1749321000-1749339000@pccmississauga.ca
SUMMARY:RENTAL
DESCRIPTION:
URL:https://pccmississauga.ca/event/rental-6/
LOCATION:PCCM Main Hall\, 53 Queen Street North\, Mississauga\, Ontario\, L5N 1A2\, Canada
END:VEVENT
BEGIN:VEVENT
DTSTART;TZID=America/Toronto:20250525T120000
DTEND;TZID=America/Toronto:20250525T183000
DTSTAMP:20260423T145237
CREATED:20250324T135013Z
LAST-MODIFIED:20250324T135013Z
UID:3042-1748174400-1748197800@pccmississauga.ca
SUMMARY:Carassauga
DESCRIPTION:🌟 Celebrating 40 Years of Carassauga with the Portugal Pavilion! 🇵🇹✨ \nFor 40 incredible years\, the Portuguese Cultural Centre of Mississauga has proudly been the Portugal Pavilion at Carassauga—and this year’s celebration is bigger than ever! \n🎨 Featured Artists: \n\nCristiana Sá (Directly from Portugal!)\nDJ Goodvibes (Bringing the beats from our community!)\n\n💃 Folklore Performances: \n\nPCCM Folklore Group & other talented local dancers\n\n🍽️ Authentic Portuguese Flavors: \n\nMouthwatering food & beverages straight from Portugal!\n\n🛍️ Artisans & Vendors: \n\nUnique crafts from Portugal & our local community\n\n🎟️ Passport Required for Entry (Available for purchase at PCCM) \nDon’t miss out on this cultural extravaganza—join us in celebrating 40 years of tradition\, art\, and flavor!
URL:https://pccmississauga.ca/event/carassauga-2/
LOCATION:PCCM Main Hall\, 53 Queen Street North\, Mississauga\, Ontario\, L5N 1A2\, Canada
ORGANIZER;CN="Portuguese Cultural Centre of Mississauga":MAILTO:secretary@pccmississauga.ca
END:VEVENT
BEGIN:VEVENT
DTSTART;TZID=America/Toronto:20250524T120000
DTEND;TZID=America/Toronto:20250524T233000
DTSTAMP:20260423T145237
CREATED:20250324T134934Z
LAST-MODIFIED:20250324T134934Z
UID:3040-1748088000-1748129400@pccmississauga.ca
SUMMARY:Carassauga
DESCRIPTION:🌟 Celebrating 40 Years of Carassauga with the Portugal Pavilion! 🇵🇹✨ \nFor 40 incredible years\, the Portuguese Cultural Centre of Mississauga has proudly been the Portugal Pavilion at Carassauga—and this year’s celebration is bigger than ever! \n🎨 Featured Artists: \n\nCristiana Sá (Directly from Portugal!)\nDJ Goodvibes (Bringing the beats from our community!)\n\n💃 Folklore Performances: \n\nPCCM Folklore Group & other talented local dancers\n\n🍽️ Authentic Portuguese Flavors: \n\nMouthwatering food & beverages straight from Portugal!\n\n🛍️ Artisans & Vendors: \n\nUnique crafts from Portugal & our local community\n\n🎟️ Passport Required for Entry (Available for purchase at PCCM) \nDon’t miss out on this cultural extravaganza—join us in celebrating 40 years of tradition\, art\, and flavor!
URL:https://pccmississauga.ca/event/carassauga/
LOCATION:PCCM Main Hall\, 53 Queen Street North\, Mississauga\, Ontario\, L5N 1A2\, Canada
ORGANIZER;CN="Portuguese Cultural Centre of Mississauga":MAILTO:secretary@pccmississauga.ca
END:VEVENT
BEGIN:VEVENT
DTSTART;TZID=America/Toronto:20250523T180000
DTEND;TZID=America/Toronto:20250523T233000
DTSTAMP:20260423T145237
CREATED:20250324T134202Z
LAST-MODIFIED:20250324T134202Z
UID:3036-1748023200-1748043000@pccmississauga.ca
SUMMARY:Portuguese Festival
DESCRIPTION:🌟 Portuguese Festival – Celebrating Portugal! 🌟 \nGet ready to experience the vibrant culture of Portugal at the Portuguese Festival\, part of Carassauga! 🇵🇹 \n🎶 Live Entertainment\n🍽️ Delicious Portuguese Food\n🛍️ Local Vendors & Artisans \nBring your friends and family for an unforgettable night of music\, flavors\, and fun! Don’t miss out—mark your calendars! On Friday\, Carassauga passport is NOT required.
URL:https://pccmississauga.ca/event/portuguese-festival-2/
LOCATION:PCCM Main Hall\, 53 Queen Street North\, Mississauga\, Ontario\, L5N 1A2\, Canada
ORGANIZER;CN="Portuguese Cultural Centre of Mississauga":MAILTO:secretary@pccmississauga.ca
END:VEVENT
BEGIN:VEVENT
DTSTART;TZID=America/Toronto:20250510T183000
DTEND;TZID=America/Toronto:20250510T233000
DTSTAMP:20260423T145237
CREATED:20250224T180001Z
LAST-MODIFIED:20250227T160702Z
UID:2997-1746901800-1746919800@pccmississauga.ca
SUMMARY:🌸💖 Mother’s Day Celebration! 💖🌸
DESCRIPTION:Join us for a special evening honoring all mothers with a delicious dinner and unforgettable entertainment! Celebrate with family and friends as we enjoy an amazing performance by Eduardo Sant’ana\, all the way from Portugal\, along with the incredible Karma Band to keep the party going! \nGive your mom the gift of a wonderful night out filled with love\, laughter\, and music! Reserve your spot now! \n📢 For tickets & more info\, contact 905.286.1311
URL:https://pccmississauga.ca/event/%f0%9f%8c%b8%f0%9f%92%96-mothers-day-celebration-%f0%9f%92%96%f0%9f%8c%b8/
LOCATION:PCCM Main Hall\, 53 Queen Street North\, Mississauga\, Ontario\, L5N 1A2\, Canada
ORGANIZER;CN="Portuguese Cultural Centre of Mississauga":MAILTO:secretary@pccmississauga.ca
END:VEVENT
BEGIN:VEVENT
DTSTART;TZID=America/Toronto:20250503T183000
DTEND;TZID=America/Toronto:20250503T233000
DTSTAMP:20260423T145237
CREATED:20250220T161855Z
LAST-MODIFIED:20250220T161855Z
UID:2977-1746297000-1746315000@pccmississauga.ca
SUMMARY:RENTAL
DESCRIPTION:Luso M Riders
URL:https://pccmississauga.ca/event/rental-5/
LOCATION:PCCM Main Hall\, 53 Queen Street North\, Mississauga\, Ontario\, L5N 1A2\, Canada
END:VEVENT
BEGIN:VEVENT
DTSTART;TZID=America/Toronto:20250426T183000
DTEND;TZID=America/Toronto:20250426T233000
DTSTAMP:20260423T145237
CREATED:20250224T175305Z
LAST-MODIFIED:20250224T175305Z
UID:2994-1745692200-1745710200@pccmississauga.ca
SUMMARY:🕊️✨ Festa do Espírito Santo! ✨🕊️
DESCRIPTION:Join us at PCCM as we celebrate the cherished Festa do Espírito Santo\, a beautiful Azorean tradition of faith\, community\, and gratitude. This special event brings people together to honor the spirit of giving and unity\, just as it has for generations in the Azores. Enjoy the authentic Sopas do Espírito Santo and Alcatra\, two beloved dishes of this festival! \nCome share in this meaningful tradition with family and friends as we celebrate heritage\, generosity\, and community spirit. 📢 For more info\, contact 905.286.1311.
URL:https://pccmississauga.ca/event/%f0%9f%95%8a%ef%b8%8f%e2%9c%a8-festa-do-espirito-santo-%e2%9c%a8%f0%9f%95%8a%ef%b8%8f/
LOCATION:PCCM Main Hall\, 53 Queen Street North\, Mississauga\, Ontario\, L5N 1A2\, Canada
ORGANIZER;CN="Portuguese Cultural Centre of Mississauga":MAILTO:secretary@pccmississauga.ca
END:VEVENT
BEGIN:VEVENT
DTSTART;TZID=America/Toronto:20250420T120000
DTEND;TZID=America/Toronto:20250420T210000
DTSTAMP:20260423T145237
CREATED:20250224T173700Z
LAST-MODIFIED:20250305T162704Z
UID:2990-1745150400-1745182800@pccmississauga.ca
SUMMARY:🌸🎭 Danças da Páscoa! 🎶🐣
DESCRIPTION:Celebrate the rich traditions of the Azores with Danças da Páscoa\, a cherished Easter tradition from Terceira Island! Join us for an evening filled with music\, theatrical performances\, and vibrant storytelling as talented groups take the stage to bring these cultural performances to life. \nDon’t miss this unique cultural event that brings the spirit of Terceira to life! Gather your family and friends for an unforgettable night at PCCM. 📢 For more info\, contact 905.286.1311
URL:https://pccmississauga.ca/event/%f0%9f%8c%b8%f0%9f%8e%ad-dancas-da-pascoa-at-pccm-%f0%9f%8e%b6%f0%9f%90%a3/
LOCATION:PCCM Main Hall\, 53 Queen Street North\, Mississauga\, Ontario\, L5N 1A2\, Canada
ORGANIZER;CN="Portuguese Cultural Centre of Mississauga":MAILTO:secretary@pccmississauga.ca
END:VEVENT
BEGIN:VEVENT
DTSTART;TZID=America/Toronto:20250419T120000
DTEND;TZID=America/Toronto:20250419T170000
DTSTAMP:20260423T145237
CREATED:20250220T161759Z
LAST-MODIFIED:20250224T173230Z
UID:2975-1745064000-1745082000@pccmississauga.ca
SUMMARY:RENTAL - Bife da Casa
DESCRIPTION:
URL:https://pccmississauga.ca/event/rental-bife-da-casa/
LOCATION:PCCM Main Hall\, 53 Queen Street North\, Mississauga\, Ontario\, L5N 1A2\, Canada
END:VEVENT
BEGIN:VEVENT
DTSTART;TZID=America/Toronto:20250418T170000
DTEND;TZID=America/Toronto:20250418T210000
DTSTAMP:20260423T145237
CREATED:20250220T164619Z
LAST-MODIFIED:20250306T013223Z
UID:2987-1744995600-1745010000@pccmississauga.ca
SUMMARY:🌿✨ Sexta-Feira Santa ✨🌿
DESCRIPTION:Join us at PCCM for a special gathering on Sexta-Feira Santa (Good Friday). This evening is a time for reflection\, tradition\, and community as we come together to share a meal and meaningful moments. \n🍽️ What to Expect:🌿 Delicious Meal🤝 Community & Togetherness – A warm and welcoming atmosphere.✨ A Time to Reflect and Appreciate the Moment \nCome enjoy an evening of tradition and connection with family and friends. Everyone is welcome! \n📢 For more info\, contact 905.286.1311
URL:https://pccmississauga.ca/event/%f0%9f%8c%bf%e2%9c%a8-sexta-feira-santa-%e2%9c%a8%f0%9f%8c%bf/
LOCATION:PCCM Main Hall\, 53 Queen Street North\, Mississauga\, Ontario\, L5N 1A2\, Canada
ORGANIZER;CN="Portuguese Cultural Centre of Mississauga":MAILTO:secretary@pccmississauga.ca
END:VEVENT
BEGIN:VEVENT
DTSTART;TZID=America/Toronto:20250412T180000
DTEND;TZID=America/Toronto:20250412T233000
DTSTAMP:20260423T145237
CREATED:20250220T161720Z
LAST-MODIFIED:20250407T184022Z
UID:2973-1744480800-1744500600@pccmississauga.ca
SUMMARY:RENTAL - Roots of Lourinha
DESCRIPTION:
URL:https://pccmississauga.ca/event/rental-4/
LOCATION:PCCM Main Hall\, 53 Queen Street North\, Mississauga\, Ontario\, L5N 1A2\, Canada
END:VEVENT
BEGIN:VEVENT
DTSTART;TZID=America/Toronto:20250405T183000
DTEND;TZID=America/Toronto:20250405T233000
DTSTAMP:20260423T145237
CREATED:20250220T164147Z
LAST-MODIFIED:20250220T164147Z
UID:2984-1743877800-1743895800@pccmississauga.ca
SUMMARY:🎭✨ Masquerade Ball with Mexe-Mexe – A Night of Mystery & Music! 🎶🎭
DESCRIPTION:Step into a night of elegance\, mystery\, and excitement at the PCCM Youth Group’s Masquerade Ball! Put on your finest attire\, don your most dazzling mask\, and get ready to dance the night away with the incredible Mexe-Mexe! \n✨ What to Expect:🎶 Live Music by Mexe-Mexe – Get ready for a night of non-stop dancing!🎭 Masquerade Theme – Dress to impress and embrace the mystery!🍹 Delicious Foods & Great Atmosphere🎊 A Night of Fun\, Friends & Festivity! \nDon’t miss this one-of-a-kind event—where music\, glamour\, and mystery come together for an unforgettable evening! \n📢 For tickets & more info\, contact 905.286.1311
URL:https://pccmississauga.ca/event/%f0%9f%8e%ad%e2%9c%a8-masquerade-ball-with-mexe-mexe-a-night-of-mystery-music-%f0%9f%8e%b6%f0%9f%8e%ad/
LOCATION:PCCM Main Hall\, 53 Queen Street North\, Mississauga\, Ontario\, L5N 1A2\, Canada
ORGANIZER;CN="Portuguese Cultural Centre of Mississauga":MAILTO:secretary@pccmississauga.ca
END:VEVENT
BEGIN:VEVENT
DTSTART;TZID=America/Toronto:20250329T183000
DTEND;TZID=America/Toronto:20250329T233000
DTSTAMP:20260423T145237
CREATED:20250219T163631Z
LAST-MODIFIED:20250219T163631Z
UID:2962-1743273000-1743291000@pccmississauga.ca
SUMMARY:🥂🎶 Festival do Leitão with KARMA – A Night of Great Food & Music! 🎉
DESCRIPTION:Get ready for a delicious and lively night at the Festival do Leitão\, featuring the amazing Karma Band! Join us for an evening of mouthwatering food\, great company\, and high-energy entertainment. \nDon’t miss out on this unforgettable night of delicious flavors\, amazing music\, and pure fun! Gather your family and friends and come celebrate with us. \n📢 For tickets & more info\, contact 905.286.1311
URL:https://pccmississauga.ca/event/%f0%9f%a5%82%f0%9f%8e%b6-festival-do-leitao-with-karma-a-night-of-great-food-music-%f0%9f%8e%89/
LOCATION:PCCM Main Hall\, 53 Queen Street North\, Mississauga\, Ontario\, L5N 1A2\, Canada
ORGANIZER;CN="Portuguese Cultural Centre of Mississauga":MAILTO:secretary@pccmississauga.ca
END:VEVENT
BEGIN:VEVENT
DTSTART;TZID=America/Toronto:20250322T183000
DTEND;TZID=America/Toronto:20250322T233000
DTSTAMP:20260423T145237
CREATED:20250219T161452Z
LAST-MODIFIED:20250220T163825Z
UID:2960-1742668200-1742686200@pccmississauga.ca
SUMMARY:RENTAL - Concelho da Povoação
DESCRIPTION:
URL:https://pccmississauga.ca/event/rental-3/
LOCATION:PCCM Main Hall\, 53 Queen Street North\, Mississauga\, Ontario\, L5N 1A2\, Canada
END:VEVENT
BEGIN:VEVENT
DTSTART;TZID=America/Toronto:20250315T183000
DTEND;TZID=America/Toronto:20250315T233000
DTSTAMP:20260423T145237
CREATED:20250219T161423Z
LAST-MODIFIED:20250220T163757Z
UID:2958-1742063400-1742081400@pccmississauga.ca
SUMMARY:RENTAL - Kanal 3
DESCRIPTION:
URL:https://pccmississauga.ca/event/rental-2/
LOCATION:PCCM Main Hall\, 53 Queen Street North\, Mississauga\, Ontario\, L5N 1A2\, Canada
END:VEVENT
BEGIN:VEVENT
DTSTART;TZID=America/Toronto:20250308T183000
DTEND;TZID=America/Toronto:20250308T233000
DTSTAMP:20260423T145237
CREATED:20250219T161328Z
LAST-MODIFIED:20250219T161328Z
UID:2954-1741458600-1741476600@pccmississauga.ca
SUMMARY:🎉 Baile do Sócio with TABU – A Night of Music\, Dance & Celebration! 🎶
DESCRIPTION:Join us for a spectacular evening at the Baile do Sócio\, featuring the amazing Banda TABU! Get ready for a night filled with great music\, delicious food\, and an unforgettable atmosphere—all at an incredible price! \n✨ What’s Included:🍽️ Delicious Dinner – Enjoy a fantastic meal with great company!🎶 Live Entertainment by TABU – Dance the night away to incredible music!💃 Great Atmosphere & Fun for All! \nThis is a night you don’t want to miss! Gather your family and friends and come celebrate with us. \n📢 For tickets & more info\, contact 905.286.1311
URL:https://pccmississauga.ca/event/%f0%9f%8e%89-baile-do-socio-with-tabu-a-night-of-music-dance-celebration-%f0%9f%8e%b6/
LOCATION:PCCM Main Hall\, 53 Queen Street North\, Mississauga\, Ontario\, L5N 1A2\, Canada
ORGANIZER;CN="Portuguese Cultural Centre of Mississauga":MAILTO:secretary@pccmississauga.ca
END:VEVENT
BEGIN:VEVENT
DTSTART;TZID=America/Toronto:20250302T120000
DTEND;TZID=America/Toronto:20250302T210000
DTSTAMP:20260423T145237
CREATED:20250210T163015Z
LAST-MODIFIED:20250220T164952Z
UID:2948-1740916800-1740949200@pccmississauga.ca
SUMMARY:🎭 Danças do Carnaval! 🎭
DESCRIPTION:Experience the magic of Terceira Island’s Carnival traditions right here at the PCCM! Join us for an unforgettable night of Danças de Carnaval\, a beloved Azorean tradition filled with theatrical performances\, humor\, music\, and vibrant storytelling.
URL:https://pccmississauga.ca/event/dancas-do-carnaval-3/
LOCATION:PCCM Main Hall\, 53 Queen Street North\, Mississauga\, Ontario\, L5N 1A2\, Canada
ORGANIZER;CN="Portuguese Cultural Centre of Mississauga":MAILTO:secretary@pccmississauga.ca
END:VEVENT
BEGIN:VEVENT
DTSTART;TZID=America/Toronto:20250228T190000
DTEND;TZID=America/Toronto:20250228T233000
DTSTAMP:20260423T145237
CREATED:20250120T211335Z
LAST-MODIFIED:20250224T175643Z
UID:2941-1740769200-1740785400@pccmississauga.ca
SUMMARY:RENTAL - The Portuguese Kids & Mike Rita
DESCRIPTION:This event is not being sold by the PCCM. Tickets can be purchased through The Portuguese Kids website on the link below. \nhttps://www.eventbrite.ca/e/mississauga-on-improvisitas-with-mike-rita-tickets-1154735247209?aff=efbevent
URL:https://pccmississauga.ca/event/the-portuguese-kids-mike-rita/
LOCATION:PCCM Main Hall\, 53 Queen Street North\, Mississauga\, Ontario\, L5N 1A2\, Canada
END:VEVENT
END:VCALENDAR