BEGIN:VCALENDAR
VERSION:2.0
PRODID:-//Portuguese Cultural Centre of Mississauga - ECPv6.15.20//NONSGML v1.0//EN
CALSCALE:GREGORIAN
METHOD:PUBLISH
X-WR-CALNAME:Portuguese Cultural Centre of Mississauga
X-ORIGINAL-URL:https://pccmississauga.ca
X-WR-CALDESC:Events for Portuguese Cultural Centre of Mississauga
REFRESH-INTERVAL;VALUE=DURATION:PT1H
X-Robots-Tag:noindex
X-PUBLISHED-TTL:PT1H
BEGIN:VTIMEZONE
TZID:America/Toronto
BEGIN:DAYLIGHT
TZOFFSETFROM:-0500
TZOFFSETTO:-0400
TZNAME:EDT
DTSTART:20250309T070000
END:DAYLIGHT
BEGIN:STANDARD
TZOFFSETFROM:-0400
TZOFFSETTO:-0500
TZNAME:EST
DTSTART:20251102T060000
END:STANDARD
BEGIN:DAYLIGHT
TZOFFSETFROM:-0500
TZOFFSETTO:-0400
TZNAME:EDT
DTSTART:20260308T070000
END:DAYLIGHT
BEGIN:STANDARD
TZOFFSETFROM:-0400
TZOFFSETTO:-0500
TZNAME:EST
DTSTART:20261101T060000
END:STANDARD
BEGIN:DAYLIGHT
TZOFFSETFROM:-0500
TZOFFSETTO:-0400
TZNAME:EDT
DTSTART:20270314T070000
END:DAYLIGHT
BEGIN:STANDARD
TZOFFSETFROM:-0400
TZOFFSETTO:-0500
TZNAME:EST
DTSTART:20271107T060000
END:STANDARD
END:VTIMEZONE
BEGIN:VEVENT
DTSTART;TZID=America/Toronto:20260522T180000
DTEND;TZID=America/Toronto:20260522T233000
DTSTAMP:20260423T202423
CREATED:20260417T152741Z
LAST-MODIFIED:20260417T152741Z
UID:3274-1779472800-1779492600@pccmississauga.ca
SUMMARY:Cultural Night
DESCRIPTION:Cultural Night at the PCCM in preparation for Carassauga weekend. Entertainment includes Liliana Oliveira and her musicians from Portugal\, Luis Martelo Trumpet player and folklore. Free entrance!
URL:https://pccmississauga.ca/event/cultural-night/
LOCATION:PCCM Main Hall\, 53 Queen Street North\, Mississauga\, Ontario\, L5N 1A2\, Canada
ORGANIZER;CN="Portuguese Cultural Centre of Mississauga":MAILTO:secretary@pccmississauga.ca
END:VEVENT
BEGIN:VEVENT
DTSTART;TZID=America/Toronto:20260523T120000
DTEND;TZID=America/Toronto:20260523T233000
DTSTAMP:20260423T202423
CREATED:20260417T153012Z
LAST-MODIFIED:20260417T153012Z
UID:3276-1779537600-1779579000@pccmississauga.ca
SUMMARY:Carassauga - Day 1
DESCRIPTION:PCCM is the Portugal Pavilion for Carassauga. Entertainment includes Liliana Oliveira and her musicians from Portugal\, Luis Martelo Trumpet player and a number of folklore groups from the GTA. Carassauga passports required for entrance.
URL:https://pccmississauga.ca/event/carassauga-day-1-3/
LOCATION:PCCM Main Hall\, 53 Queen Street North\, Mississauga\, Ontario\, L5N 1A2\, Canada
ORGANIZER;CN="Portuguese Cultural Centre of Mississauga":MAILTO:secretary@pccmississauga.ca
END:VEVENT
BEGIN:VEVENT
DTSTART;TZID=America/Toronto:20260524T120000
DTEND;TZID=America/Toronto:20260524T180000
DTSTAMP:20260423T202423
CREATED:20260417T153029Z
LAST-MODIFIED:20260417T153029Z
UID:3278-1779624000-1779645600@pccmississauga.ca
SUMMARY:Carassauga - Day 2
DESCRIPTION:PCCM is the Portugal Pavilion for Carassauga. Entertainment includes Liliana Oliveira and her musicians from Portugal\, Luis Martelo Trumpet player and a number of folklore groups from the GTA. Carassauga passports required for entrance.
URL:https://pccmississauga.ca/event/carassauga-day-2-3/
LOCATION:PCCM Main Hall\, 53 Queen Street North\, Mississauga\, Ontario\, L5N 1A2\, Canada
ORGANIZER;CN="Portuguese Cultural Centre of Mississauga":MAILTO:secretary@pccmississauga.ca
END:VEVENT
END:VCALENDAR