BEGIN:VCALENDAR
VERSION:2.0
PRODID:-//Portuguese Cultural Centre of Mississauga - ECPv6.15.20//NONSGML v1.0//EN
CALSCALE:GREGORIAN
METHOD:PUBLISH
X-WR-CALNAME:Portuguese Cultural Centre of Mississauga
X-ORIGINAL-URL:https://pccmississauga.ca
X-WR-CALDESC:Events for Portuguese Cultural Centre of Mississauga
REFRESH-INTERVAL;VALUE=DURATION:PT1H
X-Robots-Tag:noindex
X-PUBLISHED-TTL:PT1H
BEGIN:VTIMEZONE
TZID:America/Toronto
BEGIN:DAYLIGHT
TZOFFSETFROM:-0500
TZOFFSETTO:-0400
TZNAME:EDT
DTSTART:20250309T070000
END:DAYLIGHT
BEGIN:STANDARD
TZOFFSETFROM:-0400
TZOFFSETTO:-0500
TZNAME:EST
DTSTART:20251102T060000
END:STANDARD
BEGIN:DAYLIGHT
TZOFFSETFROM:-0500
TZOFFSETTO:-0400
TZNAME:EDT
DTSTART:20260308T070000
END:DAYLIGHT
BEGIN:STANDARD
TZOFFSETFROM:-0400
TZOFFSETTO:-0500
TZNAME:EST
DTSTART:20261101T060000
END:STANDARD
BEGIN:DAYLIGHT
TZOFFSETFROM:-0500
TZOFFSETTO:-0400
TZNAME:EDT
DTSTART:20270314T070000
END:DAYLIGHT
BEGIN:STANDARD
TZOFFSETFROM:-0400
TZOFFSETTO:-0500
TZNAME:EST
DTSTART:20271107T060000
END:STANDARD
END:VTIMEZONE
BEGIN:VEVENT
DTSTART;TZID=America/Toronto:20260328T183000
DTEND;TZID=America/Toronto:20260328T233000
DTSTAMP:20260423T173434
CREATED:20260310T232515Z
LAST-MODIFIED:20260310T232515Z
UID:3243-1774722600-1774740600@pccmississauga.ca
SUMMARY:Festival do Leitão & Hawaii Night
DESCRIPTION:🌺🐖 Festival do Leitão & Hawaii Night 🐖🌺 \nJoin us at the Portuguese Cultural Centre of Mississauga for a fun and delicious evening as we bring together the flavours of Portugal with a tropical Hawaiian twist. Enjoy our famous leitão (roast pig) in a festive atmosphere filled with great food\, great company\, and plenty of island-inspired fun. \nThe night will feature live entertainment by Duo Som Luso\, Steve Medeiros\, and Henrik Cipriano\, keeping the music going and the dance floor lively throughout the evening. Put on your Hawaiian shirts\, leis\, and tropical outfits and come ready for a memorable night of food\, music\, and dancing. \nFor reservations and information\, please contact us at 905-286-1311 or secretary@pccmississauga.ca. Reserve early and come celebrate this unique Festival do Leitão & Hawaii Night with us! 🌴 \n\n\n\n\n\n\n 
URL:https://pccmississauga.ca/event/festival-do-leitao-hawaii-night/
LOCATION:PCCM Main Hall\, 53 Queen Street North\, Mississauga\, Ontario\, L5N 1A2\, Canada
ORGANIZER;CN="Portuguese Cultural Centre of Mississauga":MAILTO:secretary@pccmississauga.ca
END:VEVENT
END:VCALENDAR