BEGIN:VCALENDAR
VERSION:2.0
PRODID:-//Portuguese Cultural Centre of Mississauga - ECPv6.15.20//NONSGML v1.0//EN
CALSCALE:GREGORIAN
METHOD:PUBLISH
X-WR-CALNAME:Portuguese Cultural Centre of Mississauga
X-ORIGINAL-URL:https://pccmississauga.ca
X-WR-CALDESC:Events for Portuguese Cultural Centre of Mississauga
REFRESH-INTERVAL;VALUE=DURATION:PT1H
X-Robots-Tag:noindex
X-PUBLISHED-TTL:PT1H
BEGIN:VTIMEZONE
TZID:America/Toronto
BEGIN:DAYLIGHT
TZOFFSETFROM:-0500
TZOFFSETTO:-0400
TZNAME:EDT
DTSTART:20250309T070000
END:DAYLIGHT
BEGIN:STANDARD
TZOFFSETFROM:-0400
TZOFFSETTO:-0500
TZNAME:EST
DTSTART:20251102T060000
END:STANDARD
BEGIN:DAYLIGHT
TZOFFSETFROM:-0500
TZOFFSETTO:-0400
TZNAME:EDT
DTSTART:20260308T070000
END:DAYLIGHT
BEGIN:STANDARD
TZOFFSETFROM:-0400
TZOFFSETTO:-0500
TZNAME:EST
DTSTART:20261101T060000
END:STANDARD
BEGIN:DAYLIGHT
TZOFFSETFROM:-0500
TZOFFSETTO:-0400
TZNAME:EDT
DTSTART:20270314T070000
END:DAYLIGHT
BEGIN:STANDARD
TZOFFSETFROM:-0400
TZOFFSETTO:-0500
TZNAME:EST
DTSTART:20271107T060000
END:STANDARD
END:VTIMEZONE
BEGIN:VEVENT
DTSTART;TZID=America/Toronto:20260307T140000
DTEND;TZID=America/Toronto:20260307T220000
DTSTAMP:20260423T173426
CREATED:20260125T170619Z
LAST-MODIFIED:20260125T170619Z
UID:3239-1772892000-1772920800@pccmississauga.ca
SUMMARY:Multicultural Youth Festival
DESCRIPTION: PCCM Folklore’s 1st Annual Multicultural Youth Festival \n\nJoin us for an exciting afternoon celebrating culture\, youth\, and community at PCCM Folklore’s very first Multicultural Youth Festival!\nThis family-friendly event brings together young performers and cultural representation from around the world in a joyful\, welcoming atmosphere.\n\n Saturday\, March 7\, 2026 Doors Open at 2:00 PM\n\n What to expect:• Multicultural youth performances• A vibrant celebration of global cultures• Food & drinks available for purchase• Door prizes• Fun for all ages\n\n FREE ENTRY\nBring your family\, friends\, and community to support youth\, diversity\, and cultural pride. We can’t wait to welcome you!\n 
URL:https://pccmississauga.ca/event/multicultural-youth-festival/
LOCATION:PCCM Main Hall\, 53 Queen Street North\, Mississauga\, Ontario\, L5N 1A2\, Canada
ORGANIZER;CN="Portuguese Cultural Centre of Mississauga":MAILTO:secretary@pccmississauga.ca
END:VEVENT
END:VCALENDAR