BEGIN:VCALENDAR
VERSION:2.0
PRODID:-//Portuguese Cultural Centre of Mississauga - ECPv6.15.20//NONSGML v1.0//EN
CALSCALE:GREGORIAN
METHOD:PUBLISH
X-ORIGINAL-URL:https://pccmississauga.ca
X-WR-CALDESC:Events for Portuguese Cultural Centre of Mississauga
REFRESH-INTERVAL;VALUE=DURATION:PT1H
X-Robots-Tag:noindex
X-PUBLISHED-TTL:PT1H
BEGIN:VTIMEZONE
TZID:America/Toronto
BEGIN:DAYLIGHT
TZOFFSETFROM:-0500
TZOFFSETTO:-0400
TZNAME:EDT
DTSTART:20250309T070000
END:DAYLIGHT
BEGIN:STANDARD
TZOFFSETFROM:-0400
TZOFFSETTO:-0500
TZNAME:EST
DTSTART:20251102T060000
END:STANDARD
BEGIN:DAYLIGHT
TZOFFSETFROM:-0500
TZOFFSETTO:-0400
TZNAME:EDT
DTSTART:20260308T070000
END:DAYLIGHT
BEGIN:STANDARD
TZOFFSETFROM:-0400
TZOFFSETTO:-0500
TZNAME:EST
DTSTART:20261101T060000
END:STANDARD
BEGIN:DAYLIGHT
TZOFFSETFROM:-0500
TZOFFSETTO:-0400
TZNAME:EDT
DTSTART:20270314T070000
END:DAYLIGHT
BEGIN:STANDARD
TZOFFSETFROM:-0400
TZOFFSETTO:-0500
TZNAME:EST
DTSTART:20271107T060000
END:STANDARD
END:VTIMEZONE
BEGIN:VEVENT
DTSTART;TZID=America/Toronto:20260215T120000
DTEND;TZID=America/Toronto:20260215T210000
DTSTAMP:20260423T191301
CREATED:20260116T143607Z
LAST-MODIFIED:20260116T143607Z
UID:3213-1771156800-1771189200@pccmississauga.ca
SUMMARY:Danças de Carnaval
DESCRIPTION:Celebrate the traditional Danças de Carnaval from Terceira Island at the Portuguese Cultural Centre of Mississauga. This event is dedicated to showcasing this unique Azorean tradition\, where theatre\, music\, humour\, and storytelling come together in a truly cultural performance.\nJoin us for an authentic presentation of the Danças\, performed in the spirit of Terceira Island\, preserving a tradition that has been passed down through generations..Celebre as tradicionais Danças de Carnaval da Ilha Terceira\, no Centro Cultural Português de Mississauga. Este evento é dedicado à apresentação desta tradição açoriana única\, onde o teatro\, a música\, o humor e a narrativa se unem numa expressão cultural distinta.\nJunte-se a nós para assistir às Danças\, apresentadas no verdadeiro espírito da Ilha Terceira\, mantendo viva uma tradição transmitida de geração em geração
URL:https://pccmississauga.ca/event/dancas-de-carnaval/
LOCATION:PCCM Main Hall\, 53 Queen Street North\, Mississauga\, Ontario\, L5N 1A2\, Canada
ORGANIZER;CN="Portuguese Cultural Centre of Mississauga":MAILTO:secretary@pccmississauga.ca
END:VEVENT
END:VCALENDAR