BEGIN:VCALENDAR
VERSION:2.0
PRODID:-//Portuguese Cultural Centre of Mississauga - ECPv6.15.20//NONSGML v1.0//EN
CALSCALE:GREGORIAN
METHOD:PUBLISH
X-ORIGINAL-URL:https://pccmississauga.ca
X-WR-CALDESC:Events for Portuguese Cultural Centre of Mississauga
REFRESH-INTERVAL;VALUE=DURATION:PT1H
X-Robots-Tag:noindex
X-PUBLISHED-TTL:PT1H
BEGIN:VTIMEZONE
TZID:America/Toronto
BEGIN:DAYLIGHT
TZOFFSETFROM:-0500
TZOFFSETTO:-0400
TZNAME:EDT
DTSTART:20250309T070000
END:DAYLIGHT
BEGIN:STANDARD
TZOFFSETFROM:-0400
TZOFFSETTO:-0500
TZNAME:EST
DTSTART:20251102T060000
END:STANDARD
BEGIN:DAYLIGHT
TZOFFSETFROM:-0500
TZOFFSETTO:-0400
TZNAME:EDT
DTSTART:20260308T070000
END:DAYLIGHT
BEGIN:STANDARD
TZOFFSETFROM:-0400
TZOFFSETTO:-0500
TZNAME:EST
DTSTART:20261101T060000
END:STANDARD
BEGIN:DAYLIGHT
TZOFFSETFROM:-0500
TZOFFSETTO:-0400
TZNAME:EDT
DTSTART:20270314T070000
END:DAYLIGHT
BEGIN:STANDARD
TZOFFSETFROM:-0400
TZOFFSETTO:-0500
TZNAME:EST
DTSTART:20271107T060000
END:STANDARD
END:VTIMEZONE
BEGIN:VEVENT
DTSTART;TZID=America/Toronto:20260117T183000
DTEND;TZID=America/Toronto:20260117T233000
DTSTAMP:20260423T204856
CREATED:20251229T172220Z
LAST-MODIFIED:20251229T172220Z
UID:3191-1768674600-1768692600@pccmississauga.ca
SUMMARY:Baile da Direção
DESCRIPTION:Join us for the Baile da Direção at the PCCM!\n\nEnjoy a great night of music\, dancing\, and community with Duo Som Luso providing the entertainment.\nA fun and lively evening you won’t want to miss — see you on the dance floor!
URL:https://pccmississauga.ca/event/baile-da-direcao/
LOCATION:PCCM Main Hall\, 53 Queen Street North\, Mississauga\, Ontario\, L5N 1A2\, Canada
ORGANIZER;CN="Portuguese Cultural Centre of Mississauga":MAILTO:secretary@pccmississauga.ca
END:VEVENT
END:VCALENDAR