BEGIN:VCALENDAR
VERSION:2.0
PRODID:-//Portuguese Cultural Centre of Mississauga - ECPv6.15.20//NONSGML v1.0//EN
CALSCALE:GREGORIAN
METHOD:PUBLISH
X-ORIGINAL-URL:https://pccmississauga.ca
X-WR-CALDESC:Events for Portuguese Cultural Centre of Mississauga
REFRESH-INTERVAL;VALUE=DURATION:PT1H
X-Robots-Tag:noindex
X-PUBLISHED-TTL:PT1H
BEGIN:VTIMEZONE
TZID:America/Toronto
BEGIN:DAYLIGHT
TZOFFSETFROM:-0500
TZOFFSETTO:-0400
TZNAME:EDT
DTSTART:20240310T070000
END:DAYLIGHT
BEGIN:STANDARD
TZOFFSETFROM:-0400
TZOFFSETTO:-0500
TZNAME:EST
DTSTART:20241103T060000
END:STANDARD
BEGIN:DAYLIGHT
TZOFFSETFROM:-0500
TZOFFSETTO:-0400
TZNAME:EDT
DTSTART:20250309T070000
END:DAYLIGHT
BEGIN:STANDARD
TZOFFSETFROM:-0400
TZOFFSETTO:-0500
TZNAME:EST
DTSTART:20251102T060000
END:STANDARD
BEGIN:DAYLIGHT
TZOFFSETFROM:-0500
TZOFFSETTO:-0400
TZNAME:EDT
DTSTART:20260308T070000
END:DAYLIGHT
BEGIN:STANDARD
TZOFFSETFROM:-0400
TZOFFSETTO:-0500
TZNAME:EST
DTSTART:20261101T060000
END:STANDARD
END:VTIMEZONE
BEGIN:VEVENT
DTSTART;TZID=America/Toronto:20250510T183000
DTEND;TZID=America/Toronto:20250510T233000
DTSTAMP:20260424T094211
CREATED:20250224T180001Z
LAST-MODIFIED:20250227T160702Z
UID:2997-1746901800-1746919800@pccmississauga.ca
SUMMARY:🌸💖 Mother’s Day Celebration! 💖🌸
DESCRIPTION:Join us for a special evening honoring all mothers with a delicious dinner and unforgettable entertainment! Celebrate with family and friends as we enjoy an amazing performance by Eduardo Sant’ana\, all the way from Portugal\, along with the incredible Karma Band to keep the party going! \nGive your mom the gift of a wonderful night out filled with love\, laughter\, and music! Reserve your spot now! \n📢 For tickets & more info\, contact 905.286.1311
URL:https://pccmississauga.ca/event/%f0%9f%8c%b8%f0%9f%92%96-mothers-day-celebration-%f0%9f%92%96%f0%9f%8c%b8/
LOCATION:PCCM Main Hall\, 53 Queen Street North\, Mississauga\, Ontario\, L5N 1A2\, Canada
ORGANIZER;CN="Portuguese Cultural Centre of Mississauga":MAILTO:secretary@pccmississauga.ca
END:VEVENT
END:VCALENDAR