BEGIN:VCALENDAR
VERSION:2.0
PRODID:-//Portuguese Cultural Centre of Mississauga - ECPv6.15.20//NONSGML v1.0//EN
CALSCALE:GREGORIAN
METHOD:PUBLISH
X-ORIGINAL-URL:https://pccmississauga.ca
X-WR-CALDESC:Events for Portuguese Cultural Centre of Mississauga
REFRESH-INTERVAL;VALUE=DURATION:PT1H
X-Robots-Tag:noindex
X-PUBLISHED-TTL:PT1H
BEGIN:VTIMEZONE
TZID:America/Toronto
BEGIN:DAYLIGHT
TZOFFSETFROM:-0500
TZOFFSETTO:-0400
TZNAME:EDT
DTSTART:20240310T070000
END:DAYLIGHT
BEGIN:STANDARD
TZOFFSETFROM:-0400
TZOFFSETTO:-0500
TZNAME:EST
DTSTART:20241103T060000
END:STANDARD
BEGIN:DAYLIGHT
TZOFFSETFROM:-0500
TZOFFSETTO:-0400
TZNAME:EDT
DTSTART:20250309T070000
END:DAYLIGHT
BEGIN:STANDARD
TZOFFSETFROM:-0400
TZOFFSETTO:-0500
TZNAME:EST
DTSTART:20251102T060000
END:STANDARD
BEGIN:DAYLIGHT
TZOFFSETFROM:-0500
TZOFFSETTO:-0400
TZNAME:EDT
DTSTART:20260308T070000
END:DAYLIGHT
BEGIN:STANDARD
TZOFFSETFROM:-0400
TZOFFSETTO:-0500
TZNAME:EST
DTSTART:20261101T060000
END:STANDARD
END:VTIMEZONE
BEGIN:VEVENT
DTSTART;TZID=America/Toronto:20250420T120000
DTEND;TZID=America/Toronto:20250420T210000
DTSTAMP:20260424T131507
CREATED:20250224T173700Z
LAST-MODIFIED:20250305T162704Z
UID:2990-1745150400-1745182800@pccmississauga.ca
SUMMARY:🌸🎭 Danças da Páscoa! 🎶🐣
DESCRIPTION:Celebrate the rich traditions of the Azores with Danças da Páscoa\, a cherished Easter tradition from Terceira Island! Join us for an evening filled with music\, theatrical performances\, and vibrant storytelling as talented groups take the stage to bring these cultural performances to life. \nDon’t miss this unique cultural event that brings the spirit of Terceira to life! Gather your family and friends for an unforgettable night at PCCM. 📢 For more info\, contact 905.286.1311
URL:https://pccmississauga.ca/event/%f0%9f%8c%b8%f0%9f%8e%ad-dancas-da-pascoa-at-pccm-%f0%9f%8e%b6%f0%9f%90%a3/
LOCATION:PCCM Main Hall\, 53 Queen Street North\, Mississauga\, Ontario\, L5N 1A2\, Canada
ORGANIZER;CN="Portuguese Cultural Centre of Mississauga":MAILTO:secretary@pccmississauga.ca
END:VEVENT
END:VCALENDAR