BEGIN:VCALENDAR
VERSION:2.0
PRODID:-//Portuguese Cultural Centre of Mississauga - ECPv6.15.20//NONSGML v1.0//EN
CALSCALE:GREGORIAN
METHOD:PUBLISH
X-WR-CALNAME:Portuguese Cultural Centre of Mississauga
X-ORIGINAL-URL:https://pccmississauga.ca
X-WR-CALDESC:Events for Portuguese Cultural Centre of Mississauga
REFRESH-INTERVAL;VALUE=DURATION:PT1H
X-Robots-Tag:noindex
X-PUBLISHED-TTL:PT1H
BEGIN:VTIMEZONE
TZID:America/Toronto
BEGIN:DAYLIGHT
TZOFFSETFROM:-0500
TZOFFSETTO:-0400
TZNAME:EDT
DTSTART:20240310T070000
END:DAYLIGHT
BEGIN:STANDARD
TZOFFSETFROM:-0400
TZOFFSETTO:-0500
TZNAME:EST
DTSTART:20241103T060000
END:STANDARD
BEGIN:DAYLIGHT
TZOFFSETFROM:-0500
TZOFFSETTO:-0400
TZNAME:EDT
DTSTART:20250309T070000
END:DAYLIGHT
BEGIN:STANDARD
TZOFFSETFROM:-0400
TZOFFSETTO:-0500
TZNAME:EST
DTSTART:20251102T060000
END:STANDARD
BEGIN:DAYLIGHT
TZOFFSETFROM:-0500
TZOFFSETTO:-0400
TZNAME:EDT
DTSTART:20260308T070000
END:DAYLIGHT
BEGIN:STANDARD
TZOFFSETFROM:-0400
TZOFFSETTO:-0500
TZNAME:EST
DTSTART:20261101T060000
END:STANDARD
END:VTIMEZONE
BEGIN:VEVENT
DTSTART;TZID=America/Toronto:20250405T183000
DTEND;TZID=America/Toronto:20250405T233000
DTSTAMP:20260424T131401
CREATED:20250220T164147Z
LAST-MODIFIED:20250220T164147Z
UID:2984-1743877800-1743895800@pccmississauga.ca
SUMMARY:🎭✨ Masquerade Ball with Mexe-Mexe – A Night of Mystery & Music! 🎶🎭
DESCRIPTION:Step into a night of elegance\, mystery\, and excitement at the PCCM Youth Group’s Masquerade Ball! Put on your finest attire\, don your most dazzling mask\, and get ready to dance the night away with the incredible Mexe-Mexe! \n✨ What to Expect:🎶 Live Music by Mexe-Mexe – Get ready for a night of non-stop dancing!🎭 Masquerade Theme – Dress to impress and embrace the mystery!🍹 Delicious Foods & Great Atmosphere🎊 A Night of Fun\, Friends & Festivity! \nDon’t miss this one-of-a-kind event—where music\, glamour\, and mystery come together for an unforgettable evening! \n📢 For tickets & more info\, contact 905.286.1311
URL:https://pccmississauga.ca/event/%f0%9f%8e%ad%e2%9c%a8-masquerade-ball-with-mexe-mexe-a-night-of-mystery-music-%f0%9f%8e%b6%f0%9f%8e%ad/
LOCATION:PCCM Main Hall\, 53 Queen Street North\, Mississauga\, Ontario\, L5N 1A2\, Canada
ORGANIZER;CN="Portuguese Cultural Centre of Mississauga":MAILTO:secretary@pccmississauga.ca
END:VEVENT
END:VCALENDAR